BEGIN:VCALENDAR
PRODID:NingEventWidget-v1
VERSION:2.0
METHOD:PUBLISH
BEGIN:VTIMEZONE
TZID:America/New_York
X-LIC-LOCATION:America/New_York
BEGIN:DAYLIGHT
TZOFFSETFROM:-0500
TZOFFSETTO:-0400
TZNAME:EDT
DTSTART:19700308T020000
RRULE:FREQ=YEARLY;BYMONTH=3;BYDAY=2SU
END:DAYLIGHT
BEGIN:STANDARD
TZOFFSETFROM:-0400
TZOFFSETTO:-0500
TZNAME:EST
DTSTART:19701101T020000
RRULE:FREQ=YEARLY;BYMONTH=11;BYDAY=1SU
END:STANDARD
END:VTIMEZONE
BEGIN:VEVENT
UID:5283893:Event:295117
DTSTAMP:20260423T065446Z
SUMMARY:1 Day Public Worshop: ADVANCED
DESCRIPTION:1 Day ADVANCED Public Workshop. For More information, call
 : 949.713.4469 or 800.248.2931\n\nFor more information visit https://w
 ww.dealerelite.net/events/1-day-public-worshop-advanced
DTSTART;TZID=America/New_York:20121011T000000
DTEND;TZID=America/New_York:20121011T235900
CATEGORIES:advanced, public, workshop
LOCATION:Indianapolis, IN
WEBSITE:
URL:
CONTACT:
ORGANIZER;CN="Jeff Cowan":https://www.dealerelite.net/profile/PROTALK
ATTACH;FMTTYPE="image/jpeg":http://storage.ning.com/topology/rest/1.0/
 file/get/2632944350?profile=original
ATTENDEE;ROLE=REQ-PARTICIPANT;PARTSTAT=ACCEPTED;RSVP=TRUE;CN="Jeff Cow
 an":https://www.dealerelite.net/profile/PROTALK
ATTENDEE;ROLE=REQ-PARTICIPANT;PARTSTAT=TENTATIVE;RSVP=TRUE;CN="Robert 
 Harington":https://www.dealerelite.net/profile/RobertHarington
END:VEVENT
END:VCALENDAR
