BEGIN:VCALENDAR
PRODID:NingEventWidget-v1
VERSION:2.0
METHOD:PUBLISH
BEGIN:VTIMEZONE
TZID:America/New_York
X-LIC-LOCATION:America/New_York
BEGIN:DAYLIGHT
TZOFFSETFROM:-0500
TZOFFSETTO:-0400
TZNAME:EDT
DTSTART:19700308T020000
RRULE:FREQ=YEARLY;BYMONTH=3;BYDAY=2SU
END:DAYLIGHT
BEGIN:STANDARD
TZOFFSETFROM:-0400
TZOFFSETTO:-0500
TZNAME:EST
DTSTART:19701101T020000
RRULE:FREQ=YEARLY;BYMONTH=11;BYDAY=1SU
END:STANDARD
END:VTIMEZONE
BEGIN:VEVENT
UID:5283893:Event:328887
DTSTAMP:20260423T014251Z
SUMMARY:10 Priorities for Your Safety Program
DESCRIPTION:How to Realize the Benefits of a Safety Program\nThursday 
 October 25, 2012, 9:00am Pacific Time\nHow to use a full compliance ma
 nagement system to ensure profitability and protection. Businesses nee
 d to know simple, cost effective, and proven strategies to maintain a 
 safe and healthful workplace, while still ensuring regulatory complian
 ce.\nPresented by: Chuck Elliott, Southeast District Manager, KPA\
 n\nChuck Elliott is an Environmental Health and Safety Engineer and So
 utheast District Manager for KPA based in Atlanta, Georgia. He holds b
 oth a Bachelor of Science Degree in Environmental Science and a Bachel
 or of Arts Degree in Communications from the University of Georgia.\n\
 nFor more information visit https://www.dealerelite.net/events/10-prio
 rities-for-your-safety-program
DTSTART;TZID=America/New_York:20121025T090000
DTEND;TZID=America/New_York:20121025T100000
CATEGORIES:webinar
LOCATION:http://www.dealerwebinars.com/safetyprogram?ch=social
WEBSITE:http://www.dealerwebinars.com/safetyprogram?ch=social
URL:http://www.dealerwebinars.com/safetyprogram?ch=social
CONTACT:
ORGANIZER;CN="Patric Timmermans":https://www.dealerelite.net/profile/P
 atricTimmermans
ATTACH;FMTTYPE="image/jpeg":http://storage.ning.com/topology/rest/1.0/
 file/get/2632941097?profile=original
ATTENDEE;ROLE=REQ-PARTICIPANT;PARTSTAT=ACCEPTED;RSVP=TRUE;CN="Patric T
 immermans":https://www.dealerelite.net/profile/PatricTimmermans
END:VEVENT
END:VCALENDAR
