BEGIN:VCALENDAR
PRODID:NingEventWidget-v1
VERSION:2.0
METHOD:PUBLISH
BEGIN:VTIMEZONE
TZID:America/New_York
X-LIC-LOCATION:America/New_York
BEGIN:DAYLIGHT
TZOFFSETFROM:-0500
TZOFFSETTO:-0400
TZNAME:EDT
DTSTART:19700308T020000
RRULE:FREQ=YEARLY;BYMONTH=3;BYDAY=2SU
END:DAYLIGHT
BEGIN:STANDARD
TZOFFSETFROM:-0400
TZOFFSETTO:-0500
TZNAME:EST
DTSTART:19701101T020000
RRULE:FREQ=YEARLY;BYMONTH=11;BYDAY=1SU
END:STANDARD
END:VTIMEZONE
BEGIN:VEVENT
UID:5283893:Event:56911
DTSTAMP:20260423T105016Z
SUMMARY:10 Things an Auto Dealer Can Do NOW to Succeed With Social Med
 ia TODAY
DESCRIPTION:This will be a fast paced webinar full of actionable infor
 mation for dealerships or other auto industry professionals that want 
 to harness the true power of social media.\nÂ \nRob Hagen and David Jo
 hnson of Next Generation Dealer Services will discuss 10 things a deal
 ership can do today that will have a tremendous impact on their social
  media goals.\nÂ \nDealers will learn how to:  â€¢ Grow an online loca
 l community â€“ having lots of friends is nice but isnâ€™t the goal to
  eventually have them become clients? Car dealers are local businesses
 , so they key is to keep your communities local.  â€¢ Increase Google 
 reviews â€“ do you know how many times people type in your dealership 
 name in a Google search? The numbers are typically staggering! What do
  they see next? Increasingly, people are making buying decisions based
  off independent review sites. We will give you strategies to help inc
 rease the number of your reviews.  â€¢ Create a social media policy â€
 “ do you have one? Do you need one? We will tell you why you should ha
 ve a policy and where to find one.  Plus learn seven additional action
 s to immediately capture the tremendous power of social networking!\nÂ
  \nRegister for the webinar here:https://www3.gotomeeting.cÂ om/regist
 er/991440558\n2-3pm Eastern Time\nÂ \nSee you next week!\n\nFor more i
 nformation visit https://www.dealerelite.net/events/10-things-an-auto-
 dealer-can
DTSTART;TZID=America/New_York:20110216T140000
DTEND;TZID=America/New_York:20110216T150000
CATEGORIES:weninar
LOCATION:On Your Computer
WEBSITE:https://www3.gotomeeting.c om/register/991440558
URL:https://www3.gotomeeting.c om/register/991440558
CONTACT:850-341-7413
ORGANIZER;CN="David Johnson":https://www.dealerelite.net/profile/David
 Johnson
ATTACH;FMTTYPE="image/jpeg":http://storage.ning.com/topology/rest/1.0/
 file/get/2632912298?profile=original
ATTENDEE;ROLE=REQ-PARTICIPANT;PARTSTAT=ACCEPTED;RSVP=TRUE;CN="David Jo
 hnson":https://www.dealerelite.net/profile/DavidJohnson
END:VEVENT
END:VCALENDAR
