BEGIN:VCALENDAR
PRODID:NingEventWidget-v1
VERSION:2.0
METHOD:PUBLISH
BEGIN:VTIMEZONE
TZID:America/New_York
X-LIC-LOCATION:America/New_York
BEGIN:DAYLIGHT
TZOFFSETFROM:-0500
TZOFFSETTO:-0400
TZNAME:EDT
DTSTART:19700308T020000
RRULE:FREQ=YEARLY;BYMONTH=3;BYDAY=2SU
END:DAYLIGHT
BEGIN:STANDARD
TZOFFSETFROM:-0400
TZOFFSETTO:-0500
TZNAME:EST
DTSTART:19701101T020000
RRULE:FREQ=YEARLY;BYMONTH=11;BYDAY=1SU
END:STANDARD
END:VTIMEZONE
BEGIN:VEVENT
UID:5283893:Event:160315
DTSTAMP:20260421T145905Z
SUMMARY:2 Day Social Media Workshop - Denver & Charlotte
DESCRIPTION:Register Here:\n \nhttp://nextgendealer.com/social-media-
 workshop/\n \nIn this 2-Day, social media workshop for auto dealers, 
 I will share with you the complete blueprint for social media success.
 \n \nI will show you how to grow your online community and influence 
 word-of-mouth. You will learn everything from the Golden Triangle Of C
 ommunity Engagement to calculating a positive ROI (No, It's not imposs
 ible to track Social Media. I'll show you how!)\n \nHere is just a sa
 mpling of what you will learn:\n\n\nA proven, 4 step process to creati
 ng a comprehensive social media strategy.\nHow to influence repeat and
  referral business through the creation of word-of-mouth.\nThe golden 
 triangle of community engagement.\nHow to harness the power of the Law
  Of Compounding Customers.\nHow to track a positive ROI with in-depth 
 social media reporting.\nHow to use LinkedIn to connect with the super
  influencers.\nHow to grow your Facebook Fan Page by thousands and tho
 usands, month over month… organically!\nHow to generate more service
  business.\nThe 4 personality types that make up your online community
  and how to take advantage of that knowledge.\nCreating exceptional cu
 stomer experiences.\nHow to create a comprehensive social media listen
 ing station and develop a Social Mention Feedback Loop.\nHow to genera
 te hundreds of reviews on Google Places.\nHow your sales people can ge
 nerate their own inbound leads!\nAny much, MUCH more!\n\n There are tw
 o upcoming workshops:\n\nCharlotte, NC August 16th-17th\nDenver, CO Au
 gust 9th -10th\n\nTo learn more about the upcoming workshops just clic
 k HERE.\n\nFor more information visit https://www.dealerelite.net/even
 ts/2-day-social-media-workshop
DTSTART;TZID=America/New_York:20110809T000000
DTEND;TZID=America/New_York:20110810T235900
CATEGORIES:workshop
LOCATION:Denver, Co
WEBSITE:http://nextgendealer.com/social-media-workshop/
URL:http://nextgendealer.com/social-media-workshop/
CONTACT:
ORGANIZER;CN="David Johnson":https://www.dealerelite.net/profile/David
 Johnson
ATTACH;FMTTYPE="image/jpeg":http://storage.ning.com/topology/rest/1.0/
 file/get/2632918252?profile=original
ATTENDEE;ROLE=REQ-PARTICIPANT;PARTSTAT=ACCEPTED;RSVP=TRUE;CN="Rob Hage
 n":https://www.dealerelite.net/profile/RobHagen
ATTENDEE;ROLE=REQ-PARTICIPANT;PARTSTAT=ACCEPTED;RSVP=TRUE;CN="David Jo
 hnson":https://www.dealerelite.net/profile/DavidJohnson
END:VEVENT
END:VCALENDAR
