BEGIN:VCALENDAR
PRODID:NingEventWidget-v1
VERSION:2.0
METHOD:PUBLISH
BEGIN:VTIMEZONE
TZID:America/New_York
X-LIC-LOCATION:America/New_York
BEGIN:DAYLIGHT
TZOFFSETFROM:-0500
TZOFFSETTO:-0400
TZNAME:EDT
DTSTART:19700308T020000
RRULE:FREQ=YEARLY;BYMONTH=3;BYDAY=2SU
END:DAYLIGHT
BEGIN:STANDARD
TZOFFSETFROM:-0400
TZOFFSETTO:-0500
TZNAME:EST
DTSTART:19701101T020000
RRULE:FREQ=YEARLY;BYMONTH=11;BYDAY=1SU
END:STANDARD
END:VTIMEZONE
BEGIN:VEVENT
UID:5283893:Event:38430
DTSTAMP:20260423T204543Z
SUMMARY:2011 J.D. Power Automotive Roundtable and NADA Welcome Recepti
 on
DESCRIPTION:In an effort to create an event that specifically targets 
 automotive dealer participation, J.D. Power has teamed up with NADA fo
 r 2011 to showcase an all-new-one-day event packed with valuable infor
 mation.\n\nThis year’s agenda is packed with thought-provoking sessi
 ons, such as:\n\n*OEM C-Suite Panel moderated by Mike Jackson, Chairma
 n and CEO of AutoNation, Inc.\n*Morning Keynote\n*J.D. Power's exclusi
 ve annual franchise assessment and global automotive outlook\n*Insight
 s from experts on the 2011 U.S. Automotive Outlook\n\nThis one-day rou
 ndtable will be followed by an all new evening NADA Welcome Reception 
 co-hosted by J.D. Power and Associates, which will provide you with op
 portunities to network with at least 3,000 NADA attendees the evening 
 before NADA's opening ceremony.\n\nWith these events being promoted to
  the industry by NADA and J.D. Power, we expect to have more dealer pa
 rticipation than ever before.\n\nEVENT DETAILS\n\nJ.D. Power Internati
 onal Automotive Roundtable:\nFebruary 4 from 8:30am - 5:00pm at the Pa
 lace Hotel in\nSan Francisco, CA\n\nFollowed by an all NEW NADA Welcom
 e Reception Co-Hosted by J.D. Power:\n5:30pm - 7:00pm at the Marriott 
 Marquis in San Francisco, CA\n\n\nTo fet on our distribution list for 
 this and other J.D. Power events contact Leslie Cocco at Leslie_Cocco@
 jdpa.com\n\nSponsorship opportunities are still available! If interest
 ed contact Stephanie Haina at Stephanie.Haina@jdpa.com\n\nFor more inf
 ormation visit https://www.dealerelite.net/events/2011-jd-power-automo
 tive
DTSTART;TZID=America/New_York:20110204T083000
DTEND;TZID=America/New_York:20110204T190000
CATEGORIES:automotive, conferencce
LOCATION:San Francisco
WEBSITE:http://businesscenter.jdpower.com/Events.aspx?f=/jdpacontent/c
 orpcomm/Events/InternationalAutoRoundtable/InternationalAutomotiveRoun
 dtable.htm
URL:http://businesscenter.jdpower.com/Events.aspx?f=/jdpacontent/corpc
 omm/Events/InternationalAutoRoundtable/InternationalAutomotiveRoundtab
 le.htm
CONTACT:
ORGANIZER;CN="J.D. Power and Associates":https://www.dealerelite.net/p
 rofile/LeslieCocco
ATTACH;FMTTYPE="image/jpeg":http://storage.ning.com/topology/rest/1.0/
 file/get/2632908301?profile=original
ATTENDEE;ROLE=REQ-PARTICIPANT;PARTSTAT=ACCEPTED;RSVP=TRUE;CN="Lewis Ku
 hl":https://www.dealerelite.net/profile/LewisKuhl
ATTENDEE;ROLE=REQ-PARTICIPANT;PARTSTAT=ACCEPTED;RSVP=TRUE;CN="Jim Rich
 ter":https://www.dealerelite.net/profile/JimRichter
ATTENDEE;ROLE=REQ-PARTICIPANT;PARTSTAT=ACCEPTED;RSVP=TRUE;CN="John Dal
 pe":https://www.dealerelite.net/profile/JohnDalpe
ATTENDEE;ROLE=REQ-PARTICIPANT;PARTSTAT=ACCEPTED;RSVP=TRUE;CN="william 
 lovejoy":https://www.dealerelite.net/profile/williamlovejoy
ATTENDEE;ROLE=REQ-PARTICIPANT;PARTSTAT=ACCEPTED;RSVP=TRUE;CN="Chris Sa
 raceno":https://www.dealerelite.net/profile/ChrisSaraceno
ATTENDEE;ROLE=REQ-PARTICIPANT;PARTSTAT=ACCEPTED;RSVP=TRUE;CN=DealerELI
 TE:https://www.dealerelite.net/profile/ChrisandMike
ATTENDEE;ROLE=REQ-PARTICIPANT;PARTSTAT=ACCEPTED;RSVP=TRUE;CN="Keith Ha
 milton":https://www.dealerelite.net/profile/kennethhamilton
ATTENDEE;ROLE=REQ-PARTICIPANT;PARTSTAT=ACCEPTED;RSVP=TRUE;CN="Sean Sta
 pleton":https://www.dealerelite.net/profile/SeanStapleton
ATTENDEE;ROLE=REQ-PARTICIPANT;PARTSTAT=ACCEPTED;RSVP=TRUE;CN="J.D. Pow
 er and Associates":https://www.dealerelite.net/profile/LeslieCocco
ATTENDEE;ROLE=REQ-PARTICIPANT;PARTSTAT=TENTATIVE;RSVP=TRUE;CN="John S.
  Gottschalk":https://www.dealerelite.net/profile/JohnSGottschalk
ATTENDEE;ROLE=REQ-PARTICIPANT;PARTSTAT=TENTATIVE;RSVP=TRUE;CN="Jeff Mo
 rris":https://www.dealerelite.net/profile/JeffMorris
ATTENDEE;ROLE=REQ-PARTICIPANT;PARTSTAT=TENTATIVE;RSVP=TRUE;CN="SUSAN H
 AIR":https://www.dealerelite.net/profile/SUSANHAIR
ATTENDEE;ROLE=REQ-PARTICIPANT;PARTSTAT=TENTATIVE;RSVP=TRUE;CN="Fran Ta
 ylor":https://www.dealerelite.net/profile/FrancisTaylor
ATTENDEE;ROLE=REQ-PARTICIPANT;PARTSTAT=TENTATIVE;RSVP=TRUE;CN="Philip 
 Zelinger":https://www.dealerelite.net/profile/PhilipZelinger
ATTENDEE;ROLE=REQ-PARTICIPANT;PARTSTAT=TENTATIVE;RSVP=TRUE;CN="Keith B
 rewer":https://www.dealerelite.net/profile/KeithBrewer
END:VEVENT
END:VCALENDAR
