BEGIN:VCALENDAR
PRODID:NingEventWidget-v1
VERSION:2.0
METHOD:PUBLISH
BEGIN:VTIMEZONE
TZID:America/New_York
X-LIC-LOCATION:America/New_York
BEGIN:DAYLIGHT
TZOFFSETFROM:-0500
TZOFFSETTO:-0400
TZNAME:EDT
DTSTART:19700308T020000
RRULE:FREQ=YEARLY;BYMONTH=3;BYDAY=2SU
END:DAYLIGHT
BEGIN:STANDARD
TZOFFSETFROM:-0400
TZOFFSETTO:-0500
TZNAME:EST
DTSTART:19701101T020000
RRULE:FREQ=YEARLY;BYMONTH=11;BYDAY=1SU
END:STANDARD
END:VTIMEZONE
BEGIN:VEVENT
UID:5283893:Event:120827
DTSTAMP:20260422T063305Z
SUMMARY:2011 Special Finance Conference
DESCRIPTION:Special Finance Insider & F&I Magazine are joining forces 
 to bring the finance industry an event like none other.  Special Finan
 ce Insider and Auto Dealer Monthly will be hosting the Special Finance
  Conference along side of F&I magazine's F&I Conference - Jointly name
 d the Industry Summit.  \nAttendees will be able to network across the
  events adding even more value to two outstanding shows.\n\nLeading th
 is year's dealer education track will be Greg Goebel. Greg has been se
 rving the special finance, nonprime and subprime markets for years and
  understands the challenges dealers face in meeting the needs of finan
 ce companies and customers all while creating a compliant profit cente
 r for the dealership. Joining Greg will be dealer panels with discussi
 ons among some of the nations top SF deparment directors. In addtion t
 o the dealer education track, there will be a finance company track an
 d a vendor presentation track. You won't want to miss this event.\nThe
  event will open on Sept 26 with a general session including current y
 ear benchmarks and trends followed by a reception.\n\nFor more details
  go to www.specialfinanceinsider.com\n\nFor more information visit htt
 ps://www.dealerelite.net/events/2011-special-finance
DTSTART;TZID=America/New_York:20110926T163000
DTEND;TZID=America/New_York:20110928T173000
CATEGORIES:conference
LOCATION:Las Vegas Hilton
WEBSITE:http://www.Specialfinanceinsider.com
URL:http://www.Specialfinanceinsider.com
CONTACT:888.300.8844
ORGANIZER;CN="Harlene Doane":https://www.dealerelite.net/profile/Harle
 neDoane863
ATTACH;FMTTYPE="image/jpeg":http://storage.ning.com/topology/rest/1.0/
 file/get/2632923797?profile=original
ATTENDEE;ROLE=REQ-PARTICIPANT;PARTSTAT=ACCEPTED;RSVP=TRUE;CN="Harlene 
 Doane":https://www.dealerelite.net/profile/HarleneDoane863
ATTENDEE;ROLE=REQ-PARTICIPANT;PARTSTAT=ACCEPTED;RSVP=TRUE;CN="Harlene 
 Doane":https://www.dealerelite.net/profile/HarleneDoane
END:VEVENT
END:VCALENDAR
