BEGIN:VCALENDAR
PRODID:NingEventWidget-v1
VERSION:2.0
METHOD:PUBLISH
BEGIN:VTIMEZONE
TZID:America/New_York
X-LIC-LOCATION:America/New_York
BEGIN:DAYLIGHT
TZOFFSETFROM:-0500
TZOFFSETTO:-0400
TZNAME:EDT
DTSTART:19700308T020000
RRULE:FREQ=YEARLY;BYMONTH=3;BYDAY=2SU
END:DAYLIGHT
BEGIN:STANDARD
TZOFFSETFROM:-0400
TZOFFSETTO:-0500
TZNAME:EST
DTSTART:19701101T020000
RRULE:FREQ=YEARLY;BYMONTH=11;BYDAY=1SU
END:STANDARD
END:VTIMEZONE
BEGIN:VEVENT
UID:5283893:Event:53818
DTSTAMP:20260423T171444Z
SUMMARY:25 Ways You Can Increase RO Count
DESCRIPTION:Seminar\n\nFor more information visit https://www.dealerel
 ite.net/events/25-ways-you-can-increase-ro
DTSTART;TZID=America/New_York:20110209T110000
DTEND;TZID=America/New_York:20110209T120000
CATEGORIES:training
LOCATION:PST Training on your PHONE! Get signed up. freetraining@deale
 rprotraining.com
WEBSITE:
URL:
CONTACT:
ORGANIZER;CN="Leonard Buchholz":https://www.dealerelite.net/profile/Le
 onardBuchholz
ATTACH;FMTTYPE="image/jpeg":
ATTENDEE;ROLE=REQ-PARTICIPANT;PARTSTAT=ACCEPTED;RSVP=TRUE;CN="Leonard 
 Buchholz":https://www.dealerelite.net/profile/LeonardBuchholz
END:VEVENT
END:VCALENDAR
