BEGIN:VCALENDAR
PRODID:NingEventWidget-v1
VERSION:2.0
METHOD:PUBLISH
BEGIN:VTIMEZONE
TZID:America/New_York
X-LIC-LOCATION:America/New_York
BEGIN:DAYLIGHT
TZOFFSETFROM:-0500
TZOFFSETTO:-0400
TZNAME:EDT
DTSTART:19700308T020000
RRULE:FREQ=YEARLY;BYMONTH=3;BYDAY=2SU
END:DAYLIGHT
BEGIN:STANDARD
TZOFFSETFROM:-0400
TZOFFSETTO:-0500
TZNAME:EST
DTSTART:19701101T020000
RRULE:FREQ=YEARLY;BYMONTH=11;BYDAY=1SU
END:STANDARD
END:VTIMEZONE
BEGIN:VEVENT
UID:5283893:Event:362205
DTSTAMP:20260424T122923Z
SUMMARY:40 Tips in 40 Minutes: Internet Marketing
DESCRIPTION:Learn 40 new ways to improve Digital Marketing for your De
 alership.\nComplimentary Webinar Wednesday April 3, 2013, 10:00am Moun
 tain Time\nThe most helpful and informative webinar you'll attend all 
 year! Get caught up on the latest tips, tricks and secrets to help mak
 e your digital marketing efforts as effective as possible!\nPresented 
 by: Eric Miltsch, Director of Product Strategy, DrivingSales\n\nEr
 ic Miltsch develops and manages new product strategies for DrivingSale
 s.com to create the most powerful automotive professional community in
  the world. DrivingSales delivers the highest quality content and prod
 ucts with regards to digital marketing, mobile applications, vendor ra
 tings, data integration and professional education programs designed t
 o provide the best resources for dealership owners and employees. Driv
 ingSales is the largest professional automotive community in the world
 .\n\nFor more information visit https://www.dealerelite.net/events/40-
 tips-in-40-minutes-internet-marketing
DTSTART;TZID=America/New_York:20130403T090000
DTEND;TZID=America/New_York:20130403T100000
CATEGORIES:webinar
LOCATION:http://www.dealerwebinars.com/40?ch=social
WEBSITE:http://www.dealerwebinars.com/40?ch=social
URL:http://www.dealerwebinars.com/40?ch=social
CONTACT:
ORGANIZER;CN="Patric Timmermans":https://www.dealerelite.net/profile/P
 atricTimmermans
ATTACH;FMTTYPE="image/jpeg":http://storage.ning.com/topology/rest/1.0/
 file/get/2632969539?profile=original
ATTENDEE;ROLE=REQ-PARTICIPANT;PARTSTAT=ACCEPTED;RSVP=TRUE;CN="Patric T
 immermans":https://www.dealerelite.net/profile/PatricTimmermans
END:VEVENT
END:VCALENDAR
