BEGIN:VCALENDAR
PRODID:NingEventWidget-v1
VERSION:2.0
METHOD:PUBLISH
BEGIN:VTIMEZONE
TZID:America/New_York
X-LIC-LOCATION:America/New_York
BEGIN:DAYLIGHT
TZOFFSETFROM:-0500
TZOFFSETTO:-0400
TZNAME:EDT
DTSTART:19700308T020000
RRULE:FREQ=YEARLY;BYMONTH=3;BYDAY=2SU
END:DAYLIGHT
BEGIN:STANDARD
TZOFFSETFROM:-0400
TZOFFSETTO:-0500
TZNAME:EST
DTSTART:19701101T020000
RRULE:FREQ=YEARLY;BYMONTH=11;BYDAY=1SU
END:STANDARD
END:VTIMEZONE
BEGIN:VEVENT
UID:5283893:Event:49190
DTSTAMP:20260423T140303Z
SUMMARY:5 Day F&I Certification School
DESCRIPTION:Course Highlights:\nF&I Role & Responsibility, Ethics & Co
 mpliance, Lender Relation, Product Knowledge, Presentation Styles, Str
 atagies and Techniques, Gaining Commitment and much more!\nContact Ger
 ry Gould (800) 282-1154 for pricing and details.\n \n\nFor more infor
 mation visit https://www.dealerelite.net/events/5-day-fi-certification
 -school
DTSTART;TZID=America/New_York:20110214T000000
DTEND;TZID=America/New_York:20110218T235900
CATEGORIES:training
LOCATION:Clearwater, FL
WEBSITE:http://www.udsdealerservices.com
URL:http://www.udsdealerservices.com
CONTACT:(800) 282-1154
ORGANIZER;CN="Gerry Gould":https://www.dealerelite.net/profile/Gerry
ATTACH;FMTTYPE="image/jpeg":http://storage.ning.com/topology/rest/1.0/
 file/get/2632911101?profile=original
ATTENDEE;ROLE=REQ-PARTICIPANT;PARTSTAT=ACCEPTED;RSVP=TRUE;CN="Gerry Go
 uld":https://www.dealerelite.net/profile/Gerry
END:VEVENT
END:VCALENDAR
