BEGIN:VCALENDAR
PRODID:NingEventWidget-v1
VERSION:2.0
METHOD:PUBLISH
BEGIN:VTIMEZONE
TZID:America/New_York
X-LIC-LOCATION:America/New_York
BEGIN:DAYLIGHT
TZOFFSETFROM:-0500
TZOFFSETTO:-0400
TZNAME:EDT
DTSTART:19700308T020000
RRULE:FREQ=YEARLY;BYMONTH=3;BYDAY=2SU
END:DAYLIGHT
BEGIN:STANDARD
TZOFFSETFROM:-0400
TZOFFSETTO:-0500
TZNAME:EST
DTSTART:19701101T020000
RRULE:FREQ=YEARLY;BYMONTH=11;BYDAY=1SU
END:STANDARD
END:VTIMEZONE
BEGIN:VEVENT
UID:5283893:Event:325758
DTSTAMP:20260423T145250Z
SUMMARY:5 Tools to Help Increase Your Online Productivity
DESCRIPTION:Learn how to keep your online presence top-notch, without 
 spending more time.\nFree webinar Wednesday October 3, 9am PT / 10am M
 T / 11am CT / noon ET\nKeeping your dealership up-to-date in today's d
 igital world can be a tall order. Especially if it's not your only rol
 e at the dealership. From posting updates to figuring out that next bl
 og post, our bandwidth can only stretch so far. 5 Tools to Help Increa
 se Your Online Productivity will share five extremely useful tools and
  how to use them in order to help you accomplish your day-to-day tasks
  quickly and effectively.\nPresented by: Jeff Cryder, Marketing & C
 ommunications Director, Lebanon Ford\n\nJeff is the Digital Communica
 tions and Marketing Director at Lebanon Ford, is also the subject of a
  Free Whitepaper, \"Successful Social Media for Auto Dealers: Lebanon 
 Ford Provides a Roadmap For Best Practices\" which is available for im
 mediate download at dealersocial.com. He's a recent graduate of Miami 
 University (OH) with a BA in Mass Communications and a minor in Politi
 cal Science. His Twitter handle is @cryderja. He is also very active o
 n Facebook, LinkedIn and Foursquare. Jeff has been showcased and quote
 d in: Automotive News, Auto Dealer Monthly, Ward's Business Dealer and
  is currently a Community Editor for DrivingSales.com\n\nFor more info
 rmation visit https://www.dealerelite.net/events/5-tools-to-help-incre
 ase-your-online-productivity
DTSTART;TZID=America/New_York:20121003T090000
DTEND;TZID=America/New_York:20121003T100000
CATEGORIES:webinar
LOCATION:http://www.dealerwebinars.com
WEBSITE:http://www.dealerwebinars.com
URL:http://www.dealerwebinars.com
CONTACT:
ORGANIZER;CN="Patric Timmermans":https://www.dealerelite.net/profile/P
 atricTimmermans
ATTACH;FMTTYPE="image/jpeg":http://storage.ning.com/topology/rest/1.0/
 file/get/2632941097?profile=original
ATTENDEE;ROLE=REQ-PARTICIPANT;PARTSTAT=ACCEPTED;RSVP=TRUE;CN="Patric T
 immermans":https://www.dealerelite.net/profile/PatricTimmermans
END:VEVENT
END:VCALENDAR
