BEGIN:VCALENDAR
PRODID:NingEventWidget-v1
VERSION:2.0
METHOD:PUBLISH
BEGIN:VTIMEZONE
TZID:America/New_York
X-LIC-LOCATION:America/New_York
BEGIN:DAYLIGHT
TZOFFSETFROM:-0500
TZOFFSETTO:-0400
TZNAME:EDT
DTSTART:19700308T020000
RRULE:FREQ=YEARLY;BYMONTH=3;BYDAY=2SU
END:DAYLIGHT
BEGIN:STANDARD
TZOFFSETFROM:-0400
TZOFFSETTO:-0500
TZNAME:EST
DTSTART:19701101T020000
RRULE:FREQ=YEARLY;BYMONTH=11;BYDAY=1SU
END:STANDARD
END:VTIMEZONE
BEGIN:VEVENT
UID:5283893:Event:306206
DTSTAMP:20260420T025439Z
SUMMARY:5 Ways to Get More Used Car Leads From Your Classified Ad Post
 ing Strategy
DESCRIPTION:Learn how to maximize the value of your online postings\nP
 osting used inventory on free classified websites is one of the best w
 ays to generate a high amount of used car leads at a low cost. Many de
 alers are currently posting or have posted their cars on free classifi
 ed sites. Yet many are generating only a small fraction of the leads t
 hey could with a more effective strategy. In this webinar you will lea
 rn secrets to boost the amount of ad views and leads from free classif
 ied ad postings. In addition, we will cover the following topics:\n\nT
 he most effective times to post\nHow to price your vehicles to obtain 
 the most phone calls and emails\nWays to prevent your ads from being \
 "Ghosted\"\n\nPresented by: Craig Creuziger, Manager, Business Deve
 lopment Center, KPA.\n\nCraig Creuziger has over 9 years of experienc
 e with digital technologies and lead management for inside sales teams
 . He works closely with technologies designed to automate lead generat
 ion and allow sales teams to operate more efficiently.\n\nFor more inf
 ormation visit https://www.dealerelite.net/events/5-ways-to-get-more-u
 sed-car-leads-from-your-classified-ad-posting
DTSTART;TZID=America/New_York:20120725T090000
DTEND;TZID=America/New_York:20120725T100000
CATEGORIES:webinar
LOCATION:http://www.dealerwebinars.com
WEBSITE:http://www.dealerwebinars.com
URL:http://www.dealerwebinars.com
CONTACT:
ORGANIZER;CN="Patric Timmermans":https://www.dealerelite.net/profile/P
 atricTimmermans
ATTACH;FMTTYPE="image/jpeg":http://storage.ning.com/topology/rest/1.0/
 file/get/2632941097?profile=original
ATTENDEE;ROLE=REQ-PARTICIPANT;PARTSTAT=ACCEPTED;RSVP=TRUE;CN="Patric T
 immermans":https://www.dealerelite.net/profile/PatricTimmermans
END:VEVENT
END:VCALENDAR
