BEGIN:VCALENDAR
PRODID:NingEventWidget-v1
VERSION:2.0
METHOD:PUBLISH
BEGIN:VTIMEZONE
TZID:America/New_York
X-LIC-LOCATION:America/New_York
BEGIN:DAYLIGHT
TZOFFSETFROM:-0500
TZOFFSETTO:-0400
TZNAME:EDT
DTSTART:19700308T020000
RRULE:FREQ=YEARLY;BYMONTH=3;BYDAY=2SU
END:DAYLIGHT
BEGIN:STANDARD
TZOFFSETFROM:-0400
TZOFFSETTO:-0500
TZNAME:EST
DTSTART:19701101T020000
RRULE:FREQ=YEARLY;BYMONTH=11;BYDAY=1SU
END:STANDARD
END:VTIMEZONE
BEGIN:VEVENT
UID:5283893:Event:497240
DTSTAMP:20260422T064110Z
SUMMARY:Alan Ram's Management By Fire event Atlanta, GA June 20th-22nd
 , 2017
DESCRIPTION:In the automotive industry we tend to take our best salesp
 eople and make them our managers, not realizing that the skill-set req
 uired to be a good manager is different than what is required to be a 
 good salesperson. This 2 ½ day high-impact event is conducted by auto
 motive industry training expert, Alan Ram, and will teach your manager
 s the skills they need in order to really manage in this, or any, busi
 ness environment.\n\nYour managers will learn how to:\n\n\nDrive traff
 ic to the dealership by managing salesperson activity.\n\nIncrease gro
 ss profit starting now.\n\nTrain for results.\n\nTurn call monitoring 
 into customers in the showroom.\n\nExecute Business Development strate
 gies that work.\n\n\n\nFor more information visit https://www.dealerel
 ite.net/events/alan-ram-s-management-by-fire-event-atlanta-ga-june-20t
 h-22nd
DTSTART;TZID=America/New_York:20170620T080000
DTEND;TZID=America/New_York:20170622T123000
CATEGORIES:automotive, management, training, event
LOCATION:Atlanta, GA
WEBSITE:
URL:
CONTACT:
ORGANIZER;CN="Alan Ram":https://www.dealerelite.net/profile/AlanRam
ATTACH;FMTTYPE="image/jpeg":http://storage.ning.com/topology/rest/1.0/
 file/get/2633061360?profile=original
ATTENDEE;ROLE=REQ-PARTICIPANT;PARTSTAT=ACCEPTED;RSVP=TRUE;CN="Alan Ram
 ":https://www.dealerelite.net/profile/AlanRam
END:VEVENT
END:VCALENDAR
