BEGIN:VCALENDAR
PRODID:NingEventWidget-v1
VERSION:2.0
METHOD:PUBLISH
BEGIN:VTIMEZONE
TZID:America/New_York
X-LIC-LOCATION:America/New_York
BEGIN:DAYLIGHT
TZOFFSETFROM:-0500
TZOFFSETTO:-0400
TZNAME:EDT
DTSTART:19700308T020000
RRULE:FREQ=YEARLY;BYMONTH=3;BYDAY=2SU
END:DAYLIGHT
BEGIN:STANDARD
TZOFFSETFROM:-0400
TZOFFSETTO:-0500
TZNAME:EST
DTSTART:19701101T020000
RRULE:FREQ=YEARLY;BYMONTH=11;BYDAY=1SU
END:STANDARD
END:VTIMEZONE
BEGIN:VEVENT
UID:5283893:Event:500243
DTSTAMP:20260419T201422Z
SUMMARY:Alan Ram's Management By Fire event Orange County, CA - July 1
 8th-20th, 2017
DESCRIPTION:September #ManagementByFire event dates have been released
 ! Alan Ram's event is 2 and a 1/2 days of mind-blowing, eye opening in
 formation that will make your job as a manager, easier while revolutio
 nizing the way you drive traffic to the dealership! For information on
  this event or to book your seats contact us now: (866) 996-4665, inf
 o@alanram.com.\n\n\n\n\"Management By Fire opened my eyes and provided
  me a plan. Knowing EXACTLY what to do on a daily basis to drive traff
 ic and develop a productive salesforce has allowed us to be exponentia
 lly more effective as a sales team. The managers that work for me are 
 much happier as are my sales people resulting in more car deals and su
 bstantially lower turnover.\"\nDave Cartwright, GM\n\nFor more informa
 tion visit https://www.dealerelite.net/events/alan-ram-s-management-by
 -fire-event-orange-county-ca-july-18th
DTSTART;TZID=America/New_York:20170718T080000
DTEND;TZID=America/New_York:20170720T123000
CATEGORIES:automotive, management, training, event
LOCATION:Orange County, CA
WEBSITE:http://proactivetrainingsolutions.com/management-by-fire/
URL:http://proactivetrainingsolutions.com/management-by-fire/
CONTACT:866-996-4665
ORGANIZER;CN="Alan Ram":https://www.dealerelite.net/profile/AlanRam
ATTACH;FMTTYPE="image/jpeg":http://storage.ning.com/topology/rest/1.0/
 file/get/2633036124?profile=original
ATTENDEE;ROLE=REQ-PARTICIPANT;PARTSTAT=ACCEPTED;RSVP=TRUE;CN="Alan Ram
 ":https://www.dealerelite.net/profile/AlanRam
END:VEVENT
END:VCALENDAR
