BEGIN:VCALENDAR
PRODID:NingEventWidget-v1
VERSION:2.0
METHOD:PUBLISH
BEGIN:VTIMEZONE
TZID:America/New_York
X-LIC-LOCATION:America/New_York
BEGIN:DAYLIGHT
TZOFFSETFROM:-0500
TZOFFSETTO:-0400
TZNAME:EDT
DTSTART:19700308T020000
RRULE:FREQ=YEARLY;BYMONTH=3;BYDAY=2SU
END:DAYLIGHT
BEGIN:STANDARD
TZOFFSETFROM:-0400
TZOFFSETTO:-0500
TZNAME:EST
DTSTART:19701101T020000
RRULE:FREQ=YEARLY;BYMONTH=11;BYDAY=1SU
END:STANDARD
END:VTIMEZONE
BEGIN:VEVENT
UID:5283893:Event:329451
DTSTAMP:20260423T000445Z
SUMMARY:ALL NEW: AMMP Mobile Number Capture from After Hours Shoppers 
 Webinar
DESCRIPTION:KonigCo is launching our brand new A.M.M.P. program which 
 will allow dealers to capture mobile numbers from shoppers on the lot 
 and those who visit after hours.\nWe'd like to invite all of you to be
  part of the webinar we're hosting next week to explain how the new A.
 M.M.P. (Automotive Mobile Marketing Platform) works to help your deale
 rship.\nYou can register for your spot using the link below\nRegistrat
 ion Form\nLearn more about A.M.M.P. at www.AMMP.me\n\nFor more inform
 ation visit https://www.dealerelite.net/events/all-new-ammp-mobile-num
 ber-capture-from-after-hours-shoppers
DTSTART;TZID=America/New_York:20121024T114500
DTEND;TZID=America/New_York:20121024T121500
CATEGORIES:webinar
LOCATION:http://j.mp/ammpwebinar
WEBSITE:http://j.mp/ammpwebinar
URL:http://j.mp/ammpwebinar
CONTACT:615.392.0289
ORGANIZER:Mat Koenig, CEO & Founder of KonigCo
ATTACH;FMTTYPE="image/jpeg":
ATTENDEE;ROLE=REQ-PARTICIPANT;PARTSTAT=ACCEPTED;RSVP=TRUE;CN="Mathew K
 oenig":https://www.dealerelite.net/profile/konigco
END:VEVENT
END:VCALENDAR
