BEGIN:VCALENDAR
PRODID:NingEventWidget-v1
VERSION:2.0
METHOD:PUBLISH
BEGIN:VTIMEZONE
TZID:America/New_York
X-LIC-LOCATION:America/New_York
BEGIN:DAYLIGHT
TZOFFSETFROM:-0500
TZOFFSETTO:-0400
TZNAME:EDT
DTSTART:19700308T020000
RRULE:FREQ=YEARLY;BYMONTH=3;BYDAY=2SU
END:DAYLIGHT
BEGIN:STANDARD
TZOFFSETFROM:-0400
TZOFFSETTO:-0500
TZNAME:EST
DTSTART:19701101T020000
RRULE:FREQ=YEARLY;BYMONTH=11;BYDAY=1SU
END:STANDARD
END:VTIMEZONE
BEGIN:VEVENT
UID:5283893:Event:338637
DTSTAMP:20260425T214820Z
SUMMARY:Alpha Dawg Sales Management and F&I Seminars
DESCRIPTION:\n\nFor more information visit https://www.dealerelite.net
 /events/alpha-dawg-sales-management-and-f-i-seminars
DTSTART;TZID=America/New_York:20130219T000000
DTEND;TZID=America/New_York:20130222T235900
CATEGORIES:automobile, sales, manager, and, "f&i", seminars
LOCATION:Hyatt Place Gwinnett Mall
WEBSITE:http://www.ZieglerSeminars.com
URL:http://www.ZieglerSeminars.com
CONTACT:(770) 921-4440
ORGANIZER;CN="James A. Ziegler":https://www.dealerelite.net/profile/Ja
 mesAZiegler
ATTACH;FMTTYPE="image/jpeg":http://storage.ning.com/topology/rest/1.0/
 file/get/2632961911?profile=original
ATTENDEE;ROLE=REQ-PARTICIPANT;PARTSTAT=ACCEPTED;RSVP=TRUE;CN="James A.
  Ziegler":https://www.dealerelite.net/profile/JamesAZiegler
ATTENDEE;ROLE=REQ-PARTICIPANT;PARTSTAT=TENTATIVE;RSVP=TRUE;CN=DealerEL
 ITE:https://www.dealerelite.net/profile/ChrisandMike
END:VEVENT
END:VCALENDAR
