BEGIN:VCALENDAR
PRODID:NingEventWidget-v1
VERSION:2.0
METHOD:PUBLISH
BEGIN:VTIMEZONE
TZID:America/New_York
X-LIC-LOCATION:America/New_York
BEGIN:DAYLIGHT
TZOFFSETFROM:-0500
TZOFFSETTO:-0400
TZNAME:EDT
DTSTART:19700308T020000
RRULE:FREQ=YEARLY;BYMONTH=3;BYDAY=2SU
END:DAYLIGHT
BEGIN:STANDARD
TZOFFSETFROM:-0400
TZOFFSETTO:-0500
TZNAME:EST
DTSTART:19701101T020000
RRULE:FREQ=YEARLY;BYMONTH=11;BYDAY=1SU
END:STANDARD
END:VTIMEZONE
BEGIN:VEVENT
UID:5283893:Event:364844
DTSTAMP:20260423T205530Z
SUMMARY:Are you Ready for the EPA 6H Audit?
DESCRIPTION:The EPA has begun auditing for the recent 6H Paint Spray R
 equirements, learn what you need to do at your facility.\nWebinar Thur
 sday April 18, 2013, 10:00am Mountain Time\nRegister atÂ http://www.de
 alerwebinars.com/6haudit.html\nRecently the Federal EPA began sending 
 out Clean Air Act Compliance Orders to collision centers. This is the 
 first major enforcement activity KPA has seen at the federal level on 
 6H Paint Spraying Regulations. The Air Protection Branch of the EPA ha
 s historically been very strict with its enforcement and the Clean Air
  Act often has some of the heaviest fines. Is your shop ready to pass 
 the test? In this webinar KPA will present updates on the 6H regulatio
 ns and enforcement, review the regulation requirements and tell you ex
 actly how to prepare for a possible inspection. We will also review wh
 at dealerships without collision centers need to do in order to protec
 t themselves when they use mobile contract painters.Â \nPresented by:Â
  ChuckÂ Elliott,Â Southeast District Manager,Â KPA\n\nChuck Elliott is
  an Environmental Health and Safety Engineer and Southeast District Ma
 nager for KPA based in Atlanta, Georgia. He holds both a Bachelor of S
 cience Degree in Environmental Science and a Bachelor of Arts Degree i
 n Communications from the University of Georgia.\n\nFor more informati
 on visit https://www.dealerelite.net/events/are-you-ready-for-the-epa-
 6h-audit
DTSTART;TZID=America/New_York:20130418T090000
DTEND;TZID=America/New_York:20130418T100000
CATEGORIES:webinar
LOCATION:http://www.dealerwebinars.com/6haudit.html
WEBSITE:http://www.dealerwebinars.com/6haudit.html
URL:http://www.dealerwebinars.com/6haudit.html
CONTACT:
ORGANIZER;CN="Patric Timmermans":https://www.dealerelite.net/profile/P
 atricTimmermans
ATTACH;FMTTYPE="image/jpeg":http://storage.ning.com/topology/rest/1.0/
 file/get/2632941097?profile=original
ATTENDEE;ROLE=REQ-PARTICIPANT;PARTSTAT=ACCEPTED;RSVP=TRUE;CN="Patric T
 immermans":https://www.dealerelite.net/profile/PatricTimmermans
END:VEVENT
END:VCALENDAR
