BEGIN:VCALENDAR
PRODID:NingEventWidget-v1
VERSION:2.0
METHOD:PUBLISH
BEGIN:VTIMEZONE
TZID:America/New_York
X-LIC-LOCATION:America/New_York
BEGIN:DAYLIGHT
TZOFFSETFROM:-0500
TZOFFSETTO:-0400
TZNAME:EDT
DTSTART:19700308T020000
RRULE:FREQ=YEARLY;BYMONTH=3;BYDAY=2SU
END:DAYLIGHT
BEGIN:STANDARD
TZOFFSETFROM:-0400
TZOFFSETTO:-0500
TZNAME:EST
DTSTART:19701101T020000
RRULE:FREQ=YEARLY;BYMONTH=11;BYDAY=1SU
END:STANDARD
END:VTIMEZONE
BEGIN:VEVENT
UID:5283893:Event:361970
DTSTAMP:20260424T152852Z
SUMMARY:Are you Ready to E-Verify?
DESCRIPTION:How to use E-Verify to hire and maintain a legal workforce
 .\nComplimentary Webinar Thursday March 28, 2013, 10:00am Mountain Tim
 e\nDealerships must have a legal workforce. E-Verify, the free Web-bas
 ed service from the Department of Homeland Security (DHS) and Social S
 ecurity Administration (SSA), makes it easy for dealerships to quickly
  confirm the employment eligibility of new hires. Employers are now us
 ing E-Verify at more than one million worksites across the nation. Man
 y states now require the use of E-Verify. Join Michael Pollard, Manage
 ment & Program Analyst for the U.S. Citizenship and Immigration Servic
 es (USCIS) Verification Division to learn how simple it is to use E-Ve
 rify to hire and maintain a legal workforce.\nPresented by: Michael 
 Pollard, Management & Program Analyst,U.S. Citizenship and Immigratio
 n Services, U.S. Department of Homeland Security\n\nMichael Pollard is
  a Management & Program Analyst for the U.S. Citizenship and Immigrati
 on Services (USCIS) Verification Division, which is a component of the
  U.S. Department of Homeland Security (DHS). During Michael’s tenure
  with the agency since 2007, he has played an important role in develo
 ping relationships with key stakeholders, such as employers, employee 
 advocacy groups, associations, government agencies and the general pub
 lic, to explain Verification Division programs (Form I-9 and E-Verify)
 , policies and processes. Michael also travels across the country to g
 ive presentations and attend conferences on behalf of the agency to ed
 ucate stakeholders on Form I-9 and E-Verify. Michael has a B.S. in Bus
 iness Administration with a Concentration in Marketing from Towson Uni
 versity located in Towson, MD.\n\nFor more information visit https://w
 ww.dealerelite.net/events/are-you-ready-to-e-verify
DTSTART;TZID=America/New_York:20130328T090000
DTEND;TZID=America/New_York:20130328T100000
CATEGORIES:webinar
LOCATION:http://www.dealerwebinars.com/usverify?ch=social
WEBSITE:http://www.dealerwebinars.com/usverify?ch=social
URL:http://www.dealerwebinars.com/usverify?ch=social
CONTACT:
ORGANIZER;CN="Patric Timmermans":https://www.dealerelite.net/profile/P
 atricTimmermans
ATTACH;FMTTYPE="image/jpeg":http://storage.ning.com/topology/rest/1.0/
 file/get/2632969997?profile=original
ATTENDEE;ROLE=REQ-PARTICIPANT;PARTSTAT=ACCEPTED;RSVP=TRUE;CN="Patric T
 immermans":https://www.dealerelite.net/profile/PatricTimmermans
END:VEVENT
END:VCALENDAR
