BEGIN:VCALENDAR
PRODID:NingEventWidget-v1
VERSION:2.0
METHOD:PUBLISH
BEGIN:VTIMEZONE
TZID:America/New_York
X-LIC-LOCATION:America/New_York
BEGIN:DAYLIGHT
TZOFFSETFROM:-0500
TZOFFSETTO:-0400
TZNAME:EDT
DTSTART:19700308T020000
RRULE:FREQ=YEARLY;BYMONTH=3;BYDAY=2SU
END:DAYLIGHT
BEGIN:STANDARD
TZOFFSETFROM:-0400
TZOFFSETTO:-0500
TZNAME:EST
DTSTART:19701101T020000
RRULE:FREQ=YEARLY;BYMONTH=11;BYDAY=1SU
END:STANDARD
END:VTIMEZONE
BEGIN:VEVENT
UID:5283893:Event:184318
DTSTAMP:20260421T202537Z
SUMMARY:Ask the Attorney: Your HR Legal Questions Answered
DESCRIPTION:Answers to the questions you need to know but are afraid t
 o ask. Presented by Jim Hendricks, partner with Ford & Harrison Law Fi
 rm.Legal advice is expensive but necessary when dealing with many HR i
 ssues such as wage and hour concerns, hiring, performance issue or ter
 mination. Unfortunately many companies do not consult an attorney unti
 l the lawsuit lands on their desks. In this webinar you will have the 
 opportunity to ask national recognized employment attorney, Jim Hendri
 cks, your most pressing HR questions. Hear what HR legal challenges ot
 her dealers are facing.You will learn the answers to these questions a
 nd more: -Do salaried employees get overtime pay? -Can I fire someone 
 when I have never given them a disciplinary warning? -Do all employees
  need a job description? -Should employees be able to see the contents
  of their personnel file? -What is reasonable suspicion for a substanc
 e abuse test?\n\nFor more information visit https://www.dealerelite.ne
 t/events/ask-the-attorney-your-hr-legal-questions-answered
DTSTART;TZID=America/New_York:20110825T094500
DTEND;TZID=America/New_York:20110825T110000
CATEGORIES:hr, webinar
LOCATION:Online Webinar
WEBSITE:http://go.kpaonline.com/LP=62?elqCampaignId=80
URL:http://go.kpaonline.com/LP=62?elqCampaignId=80
CONTACT:866-356-1735
ORGANIZER;CN="Brian Torrez":https://www.dealerelite.net/profile/BrianT
 orrez
ATTACH;FMTTYPE="image/jpeg":http://storage.ning.com/topology/rest/1.0/
 file/get/2632919647?profile=original
ATTENDEE;ROLE=REQ-PARTICIPANT;PARTSTAT=ACCEPTED;RSVP=TRUE;CN="Patric T
 immermans":https://www.dealerelite.net/profile/PatricTimmermans
ATTENDEE;ROLE=REQ-PARTICIPANT;PARTSTAT=ACCEPTED;RSVP=TRUE;CN="Brian To
 rrez":https://www.dealerelite.net/profile/BrianTorrez
END:VEVENT
END:VCALENDAR
