BEGIN:VCALENDAR
PRODID:NingEventWidget-v1
VERSION:2.0
METHOD:PUBLISH
BEGIN:VTIMEZONE
TZID:America/New_York
X-LIC-LOCATION:America/New_York
BEGIN:DAYLIGHT
TZOFFSETFROM:-0500
TZOFFSETTO:-0400
TZNAME:EDT
DTSTART:19700308T020000
RRULE:FREQ=YEARLY;BYMONTH=3;BYDAY=2SU
END:DAYLIGHT
BEGIN:STANDARD
TZOFFSETFROM:-0400
TZOFFSETTO:-0500
TZNAME:EST
DTSTART:19701101T020000
RRULE:FREQ=YEARLY;BYMONTH=11;BYDAY=1SU
END:STANDARD
END:VTIMEZONE
BEGIN:VEVENT
UID:5283893:Event:306988
DTSTAMP:20260419T085039Z
SUMMARY:Auto Dealer Live \"TheGreat American Automotive Panel\"
DESCRIPTION:\n\nFor more information visit https://www.dealerelite.net
 /events/auto-dealer-live-thegreat-american-automotive-panel
DTSTART;TZID=America/New_York:20120705T150000
DTEND;TZID=America/New_York:20120705T160000
CATEGORIES:radio, show
LOCATION:www.imperialpressdirect.com/autodealerlive
WEBSITE:
URL:
CONTACT:
ORGANIZER;CN="David Villa":https://www.dealerelite.net/profile/DavidVi
 lla
ATTACH;FMTTYPE="image/jpeg":http://api.ning.com:80/files/jONVMxkH*x1RG
 g2yLGIoM8-bUkDyHBPcTde1kpmA8FqC5jC0WeGHSEsF2HXquLj*aSnP-t1b10BMGEzEMUj
 fyMdzMWfq*9tc/TheGreatAmericanAut102B8CB.jpg
ATTENDEE;ROLE=REQ-PARTICIPANT;PARTSTAT=ACCEPTED;RSVP=TRUE;CN="David Vi
 lla":https://www.dealerelite.net/profile/DavidVilla
END:VEVENT
END:VCALENDAR
