BEGIN:VCALENDAR
PRODID:NingEventWidget-v1
VERSION:2.0
METHOD:PUBLISH
BEGIN:VTIMEZONE
TZID:America/New_York
X-LIC-LOCATION:America/New_York
BEGIN:DAYLIGHT
TZOFFSETFROM:-0500
TZOFFSETTO:-0400
TZNAME:EDT
DTSTART:19700308T020000
RRULE:FREQ=YEARLY;BYMONTH=3;BYDAY=2SU
END:DAYLIGHT
BEGIN:STANDARD
TZOFFSETFROM:-0400
TZOFFSETTO:-0500
TZNAME:EST
DTSTART:19701101T020000
RRULE:FREQ=YEARLY;BYMONTH=11;BYDAY=1SU
END:STANDARD
END:VTIMEZONE
BEGIN:VEVENT
UID:5283893:Event:52153
DTSTAMP:20260424T014851Z
SUMMARY:#automarketing tweetchat
DESCRIPTION:Every Wednesday we meet under the # hastag #automarketing 
 to discuss diffrent topics important to Retail Automotive join the con
 versation\n \nWednesdays 12pm to 1pm Central Time\n\nFor more informa
 tion visit https://www.dealerelite.net/events/automarketing-tweetchat
DTSTART;TZID=America/New_York:20110126T120000
DTEND;TZID=America/New_York:20120125T130000
CATEGORIES:tweetchat
LOCATION:On twitter hashtag #automarketing
WEBSITE:
URL:
CONTACT:
ORGANIZER;CN="Larry Bruce":https://www.dealerelite.net/profile/LarryBr
 uce
ATTACH;FMTTYPE="image/jpeg":
ATTENDEE;ROLE=REQ-PARTICIPANT;PARTSTAT=ACCEPTED;RSVP=TRUE;CN="Ed Brook
 s":https://www.dealerelite.net/profile/EdBrooks
ATTENDEE;ROLE=REQ-PARTICIPANT;PARTSTAT=ACCEPTED;RSVP=TRUE;CN="Larry Br
 uce":https://www.dealerelite.net/profile/LarryBruce
ATTENDEE;ROLE=REQ-PARTICIPANT;PARTSTAT=TENTATIVE;RSVP=TRUE;CN="Rich Wi
 lliam":https://www.dealerelite.net/profile/RichWilliam
END:VEVENT
END:VCALENDAR
