BEGIN:VCALENDAR
PRODID:NingEventWidget-v1
VERSION:2.0
METHOD:PUBLISH
BEGIN:VTIMEZONE
TZID:America/New_York
X-LIC-LOCATION:America/New_York
BEGIN:DAYLIGHT
TZOFFSETFROM:-0500
TZOFFSETTO:-0400
TZNAME:EDT
DTSTART:19700308T020000
RRULE:FREQ=YEARLY;BYMONTH=3;BYDAY=2SU
END:DAYLIGHT
BEGIN:STANDARD
TZOFFSETFROM:-0400
TZOFFSETTO:-0500
TZNAME:EST
DTSTART:19701101T020000
RRULE:FREQ=YEARLY;BYMONTH=11;BYDAY=1SU
END:STANDARD
END:VTIMEZONE
BEGIN:VEVENT
UID:5283893:Event:344991
DTSTAMP:20260422T080205Z
SUMMARY:Automotive Customer Centricity Summit 2013
DESCRIPTION:Surviving the Perfect Storm - Winning with Evolving Custom
 ers\nThe Automotive Customer Centricity Summit is a unique event featu
 ring:\n\nReal expertise on key topics\nExclusive environment for senio
 r executives\nStrategic and best-practice presentations\nExtensive opp
 ortunities for peer-to-peer learning\nLimited sponsor and vendor invol
 vement\n\nIn its ninth year, the Automotive Customer Centricity Summit
  is the only summit dedicated to helping the automotive industry impro
 ve customer relationships.  The full-day summit provides an exclusive
  environment for senior executives from OEMs, Dealers, and Captives fo
 cused on sharing knowledge, networking with true peers, and creating o
 pportunities for individual and corporate growth.\nVisit www.tlsummits
 .com or call 720-287-0145 to learn more about this unique opportunity 
 to learn from and network with recognized Automotive thought leaders i
 n an environment focused on high quality peer interaction.\n\nFor more
  information visit https://www.dealerelite.net/events/automotive-custo
 mer-centricity-summit-2013
DTSTART;TZID=America/New_York:20130618T080000
DTEND;TZID=America/New_York:20130618T200000
CATEGORIES:executive, summit
LOCATION:Ritz-Carlton, Marina del Rey
WEBSITE:http://www.tlsummits.com
URL:http://www.tlsummits.com
CONTACT:720-287-0145
ORGANIZER;CN="Jon Munzel":https://www.dealerelite.net/profile/JonMunze
 l
ATTACH;FMTTYPE="image/jpeg":http://storage.ning.com/topology/rest/1.0/
 file/get/2632982672?profile=original
ATTENDEE;ROLE=REQ-PARTICIPANT;PARTSTAT=ACCEPTED;RSVP=TRUE;CN="Jon Munz
 el":https://www.dealerelite.net/profile/JonMunzel
END:VEVENT
END:VCALENDAR
