BEGIN:VCALENDAR
PRODID:NingEventWidget-v1
VERSION:2.0
METHOD:PUBLISH
BEGIN:VTIMEZONE
TZID:America/New_York
X-LIC-LOCATION:America/New_York
BEGIN:DAYLIGHT
TZOFFSETFROM:-0500
TZOFFSETTO:-0400
TZNAME:EDT
DTSTART:19700308T020000
RRULE:FREQ=YEARLY;BYMONTH=3;BYDAY=2SU
END:DAYLIGHT
BEGIN:STANDARD
TZOFFSETFROM:-0400
TZOFFSETTO:-0500
TZNAME:EST
DTSTART:19701101T020000
RRULE:FREQ=YEARLY;BYMONTH=11;BYDAY=1SU
END:STANDARD
END:VTIMEZONE
BEGIN:VEVENT
UID:5283893:Event:344996
DTSTAMP:20260422T063640Z
SUMMARY:Automotive Social Media Summit 2013
DESCRIPTION:Social 2.0 – Opportunities with Standardized & New Media
 \nThe Automotive Social Media Summit is a unique event featuring:\n\nR
 eal expertise on key topics\nExclusive environment for senior executiv
 es\nStrategic and best-practice presentations\nExtensive opportunities
  for peer-to-peer learning\nLimited sponsor and vendor involvement\n\n
 The fourth annual Automotive Social Media Summit is the industry’s o
 nly summit focused exclusively on social media.  The summit offers an
  exclusive environment for senior-level OEM, Dealer, and Captive execu
 tives, and continues the learning and peer networking opportunities fo
 r those who attend the Automotive Customer Centricity Summit. \nVisit
  www.tlsummits.com or call 720-287-0145 to learn more about this uniqu
 e opportunity to learn from and network with recognized Automotive tho
 ught leaders in an environment focused on high quality peer interactio
 n.\n\nFor more information visit https://www.dealerelite.net/events/au
 tomotive-social-media-summit-2013
DTSTART;TZID=America/New_York:20130619T080000
DTEND;TZID=America/New_York:20130619T200000
CATEGORIES:executive, summit
LOCATION:Ritz-Carlton, MArina del Rey
WEBSITE:http://www.tlsummits.com
URL:http://www.tlsummits.com
CONTACT:720-287-0145
ORGANIZER;CN="Jon Munzel":https://www.dealerelite.net/profile/JonMunze
 l
ATTACH;FMTTYPE="image/jpeg":http://storage.ning.com/topology/rest/1.0/
 file/get/2632978082?profile=original
ATTENDEE;ROLE=REQ-PARTICIPANT;PARTSTAT=ACCEPTED;RSVP=TRUE;CN="Jon Munz
 el":https://www.dealerelite.net/profile/JonMunzel
END:VEVENT
END:VCALENDAR
