BEGIN:VCALENDAR
PRODID:NingEventWidget-v1
VERSION:2.0
METHOD:PUBLISH
BEGIN:VTIMEZONE
TZID:America/New_York
X-LIC-LOCATION:America/New_York
BEGIN:DAYLIGHT
TZOFFSETFROM:-0500
TZOFFSETTO:-0400
TZNAME:EDT
DTSTART:19700308T020000
RRULE:FREQ=YEARLY;BYMONTH=3;BYDAY=2SU
END:DAYLIGHT
BEGIN:STANDARD
TZOFFSETFROM:-0400
TZOFFSETTO:-0500
TZNAME:EST
DTSTART:19701101T020000
RRULE:FREQ=YEARLY;BYMONTH=11;BYDAY=1SU
END:STANDARD
END:VTIMEZONE
BEGIN:VEVENT
UID:5283893:Event:60032
DTSTAMP:20260422T223925Z
SUMMARY:Automotive Social Media Success Summit
DESCRIPTION: \nThe Automotive Social Media Success Summit is an onlin
 e social media conference for auto dealers that will include over 18 h
 ours of live training with free session playback for a full year as we
 ll as ongoing training.\n \nDealers Will Learn Such Things As\n\nA si
 mple 4 step process to developing a powerful social media strategy.\nH
 ow to manage your reputation online so that the maximum amount of peop
 le see it and become influenced by it.\nHow to connect with your custo
 mers on Facebook and build the type of community that will make them W
 ANT to talk about you.\nWhy organic growth versus paid growth will net
  you more brand ambassadors.\nHow to run a successful social media con
 test that will get your community buzzing and garner the attention of 
 local media.\nHow your salespeople can develop their own personal bran
 d and generate their own incoming leads.\nHow to generate 1,000's of f
 ans (likes) on your Facebook page every single month and why quantity 
 is worthless without quality engagement.\nHow to run an effective Face
 book Ads Campaign.\nWhat the number one way to become an authority in 
 your market is and how to achieve it.\nA simple rule to govern ALL of 
 your social media interactions to gain the maximum amount of influence
  and explode your business.\nAnd much, MUCH more...\n\nIf you want to 
 find out more about the Automotive Social Media Success Summit you can
  do so HERE.\n \nP.S. There is a $100 early bird discount until Feb. 
 23rd.\n \n\nFor more information visit https://www.dealerelite.net/ev
 ents/automotive-social-media
DTSTART;TZID=America/New_York:20110322T120000
DTEND;TZID=America/New_York:20110331T170000
CATEGORIES:online, training, seminar
LOCATION:You Computer
WEBSITE:http://AutomotiveSocialMediaSuccessSummit.com
URL:http://AutomotiveSocialMediaSuccessSummit.com
CONTACT:850-341-7413
ORGANIZER;CN="David Johnson":https://www.dealerelite.net/profile/David
 Johnson
ATTACH;FMTTYPE="image/jpeg":http://storage.ning.com/topology/rest/1.0/
 file/get/2632912920?profile=original
ATTENDEE;ROLE=REQ-PARTICIPANT;PARTSTAT=ACCEPTED;RSVP=TRUE;CN="David Jo
 hnson":https://www.dealerelite.net/profile/DavidJohnson
END:VEVENT
END:VCALENDAR
