BEGIN:VCALENDAR
PRODID:NingEventWidget-v1
VERSION:2.0
METHOD:PUBLISH
BEGIN:VTIMEZONE
TZID:America/New_York
X-LIC-LOCATION:America/New_York
BEGIN:DAYLIGHT
TZOFFSETFROM:-0500
TZOFFSETTO:-0400
TZNAME:EDT
DTSTART:19700308T020000
RRULE:FREQ=YEARLY;BYMONTH=3;BYDAY=2SU
END:DAYLIGHT
BEGIN:STANDARD
TZOFFSETFROM:-0400
TZOFFSETTO:-0500
TZNAME:EST
DTSTART:19701101T020000
RRULE:FREQ=YEARLY;BYMONTH=11;BYDAY=1SU
END:STANDARD
END:VTIMEZONE
BEGIN:VEVENT
UID:5283893:Event:490891
DTSTAMP:20260425T173259Z
SUMMARY:AutoSuccess Webinar: Anthony Greenalagh
DESCRIPTION:Join us today at 2:00 EST with Anthony Greenalagh and this
  amazing line up on Centralizing Recon. goo.gl/X1m8He\n\nFor more inf
 ormation visit https://www.dealerelite.net/events/autosuccess-webinar-
 anthony-greenalagh
DTSTART;TZID=America/New_York:20161214T140000
DTEND;TZID=America/New_York:20161214T150000
CATEGORIES:webinar
LOCATION:goo.gl/X1m8He
WEBSITE:
URL:
CONTACT:
ORGANIZER;CN="Hannah Philpott":https://www.dealerelite.net/profile/Han
 nahPhilpott
ATTACH;FMTTYPE="image/jpeg":http://storage.ning.com/topology/rest/1.0/
 file/get/2633034591?profile=original
ATTENDEE;ROLE=REQ-PARTICIPANT;PARTSTAT=ACCEPTED;RSVP=TRUE;CN="Hannah P
 hilpott":https://www.dealerelite.net/profile/HannahPhilpott
END:VEVENT
END:VCALENDAR
