BEGIN:VCALENDAR
PRODID:NingEventWidget-v1
VERSION:2.0
METHOD:PUBLISH
BEGIN:VTIMEZONE
TZID:America/New_York
X-LIC-LOCATION:America/New_York
BEGIN:DAYLIGHT
TZOFFSETFROM:-0500
TZOFFSETTO:-0400
TZNAME:EDT
DTSTART:19700308T020000
RRULE:FREQ=YEARLY;BYMONTH=3;BYDAY=2SU
END:DAYLIGHT
BEGIN:STANDARD
TZOFFSETFROM:-0400
TZOFFSETTO:-0500
TZNAME:EST
DTSTART:19701101T020000
RRULE:FREQ=YEARLY;BYMONTH=11;BYDAY=1SU
END:STANDARD
END:VTIMEZONE
BEGIN:VEVENT
UID:5283893:Event:496175
DTSTAMP:20260424T031049Z
SUMMARY:AutoSuccess Webinar Dan Wright & Jon Eyre
DESCRIPTION:Don't forget today is the day for Dan Wright & Jon Eyre :
 ) Register using this link: https://attendee.gotowebinar.com/registe
 r/5518741710282731522\n\nFor more information visit https://www.dealer
 elite.net/events/autosuccess-webinar-dan-wright-jon-eyre
DTSTART;TZID=America/New_York:20170302T140000
DTEND;TZID=America/New_York:20170302T150000
CATEGORIES:webinar
LOCATION:https://attendee.gotowebinar.com/register/5518741710282731522
WEBSITE:
URL:
CONTACT:
ORGANIZER;CN="Hannah Philpott":https://www.dealerelite.net/profile/Han
 nahPhilpott
ATTACH;FMTTYPE="image/jpeg":http://storage.ning.com/topology/rest/1.0/
 file/get/2633030075?profile=original
ATTENDEE;ROLE=REQ-PARTICIPANT;PARTSTAT=ACCEPTED;RSVP=TRUE;CN="Hannah P
 hilpott":https://www.dealerelite.net/profile/HannahPhilpott
END:VEVENT
END:VCALENDAR
