BEGIN:VCALENDAR
PRODID:NingEventWidget-v1
VERSION:2.0
METHOD:PUBLISH
BEGIN:VTIMEZONE
TZID:America/New_York
X-LIC-LOCATION:America/New_York
BEGIN:DAYLIGHT
TZOFFSETFROM:-0500
TZOFFSETTO:-0400
TZNAME:EDT
DTSTART:19700308T020000
RRULE:FREQ=YEARLY;BYMONTH=3;BYDAY=2SU
END:DAYLIGHT
BEGIN:STANDARD
TZOFFSETFROM:-0400
TZOFFSETTO:-0500
TZNAME:EST
DTSTART:19701101T020000
RRULE:FREQ=YEARLY;BYMONTH=11;BYDAY=1SU
END:STANDARD
END:VTIMEZONE
BEGIN:VEVENT
UID:5283893:Event:497202
DTSTAMP:20260423T152205Z
SUMMARY:AutoSuccess Webinar Joe High
DESCRIPTION:Hope your schedule is open tomorrow, March 21st at 2:00 ES
 T because we have a show for you! goo.gl/N6r4dx\n\nFor more informatio
 n visit https://www.dealerelite.net/events/autosuccess-webinar-joe-hig
 h
DTSTART;TZID=America/New_York:20170321T140000
DTEND;TZID=America/New_York:20170321T150000
CATEGORIES:webinar
LOCATION:goo.gl/N6r4dx
WEBSITE:
URL:
CONTACT:
ORGANIZER;CN="Hannah Philpott":https://www.dealerelite.net/profile/Han
 nahPhilpott
ATTACH;FMTTYPE="image/jpeg":http://storage.ning.com/topology/rest/1.0/
 file/get/2633031714?profile=original
ATTENDEE;ROLE=REQ-PARTICIPANT;PARTSTAT=ACCEPTED;RSVP=TRUE;CN="Hannah P
 hilpott":https://www.dealerelite.net/profile/HannahPhilpott
END:VEVENT
END:VCALENDAR
