BEGIN:VCALENDAR
PRODID:NingEventWidget-v1
VERSION:2.0
METHOD:PUBLISH
BEGIN:VTIMEZONE
TZID:America/New_York
X-LIC-LOCATION:America/New_York
BEGIN:DAYLIGHT
TZOFFSETFROM:-0500
TZOFFSETTO:-0400
TZNAME:EDT
DTSTART:19700308T020000
RRULE:FREQ=YEARLY;BYMONTH=3;BYDAY=2SU
END:DAYLIGHT
BEGIN:STANDARD
TZOFFSETFROM:-0400
TZOFFSETTO:-0500
TZNAME:EST
DTSTART:19701101T020000
RRULE:FREQ=YEARLY;BYMONTH=11;BYDAY=1SU
END:STANDARD
END:VTIMEZONE
BEGIN:VEVENT
UID:5283893:Event:490382
DTSTAMP:20260425T224157Z
SUMMARY:AutoSuccess Webinar: Sean Stapleton
DESCRIPTION:Join Sean Stapleton today at 2:00 EST for a FREE webinar! 
 Did I mention it was with SEAN STAPLETON? https://attendee.gotowebinar
 .com/register/6719704174436224257\n\nFor more information visit https:
 //www.dealerelite.net/events/autosuccess-webinar-sean-stapleton
DTSTART;TZID=America/New_York:20161206T140000
DTEND;TZID=America/New_York:20161206T150000
CATEGORIES:webinar
LOCATION:https://attendee.gotowebinar.com/register/6719704174436224257
WEBSITE:
URL:
CONTACT:
ORGANIZER;CN="Hannah Philpott":https://www.dealerelite.net/profile/Han
 nahPhilpott
ATTACH;FMTTYPE="image/jpeg":http://storage.ning.com/topology/rest/1.0/
 file/get/2633028622?profile=original
ATTENDEE;ROLE=REQ-PARTICIPANT;PARTSTAT=ACCEPTED;RSVP=TRUE;CN="Hannah P
 hilpott":https://www.dealerelite.net/profile/HannahPhilpott
END:VEVENT
END:VCALENDAR
