BEGIN:VCALENDAR
PRODID:NingEventWidget-v1
VERSION:2.0
METHOD:PUBLISH
BEGIN:VTIMEZONE
TZID:America/New_York
X-LIC-LOCATION:America/New_York
BEGIN:DAYLIGHT
TZOFFSETFROM:-0500
TZOFFSETTO:-0400
TZNAME:EDT
DTSTART:19700308T020000
RRULE:FREQ=YEARLY;BYMONTH=3;BYDAY=2SU
END:DAYLIGHT
BEGIN:STANDARD
TZOFFSETFROM:-0400
TZOFFSETTO:-0500
TZNAME:EST
DTSTART:19701101T020000
RRULE:FREQ=YEARLY;BYMONTH=11;BYDAY=1SU
END:STANDARD
END:VTIMEZONE
BEGIN:VEVENT
UID:5283893:Event:356942
DTSTAMP:20260423T235718Z
SUMMARY:Battle Plan - Detroit
DESCRIPTION:Jim Ziegler, The Alpha Dawg has outdone himself this time.
  We're bringing 20 top experts to Detroit for a two and one-half day c
 onference on everything Internet and technology marketing, phone, skil
 ls, BDC, SEO, VSEO, Google simplified, foolproof analytics, Video, You
 Tube, Facebook and twitter marketing, adwords, Craigs List, Service De
 partment Internet and technology sales, Website conversion, chart dyna
 mics, BDC management, WOW    www.I\nnternetBattlePlan.com \n\nFor m
 ore information visit https://www.dealerelite.net/events/battle-plan-d
 etroit
DTSTART;TZID=America/New_York:20130416T083000
DTEND;TZID=America/New_York:20130416T190000
CATEGORIES:automotive, internet, conference
LOCATION:MGM Hotel Casino - Detroit
WEBSITE:http://www.mgmgranddetroit.com
URL:http://www.mgmgranddetroit.com
CONTACT:770-921-4440
ORGANIZER;CN="James A. Ziegler":https://www.dealerelite.net/profile/Ja
 mesAZiegler
ATTACH;FMTTYPE="image/jpeg":http://storage.ning.com/topology/rest/1.0/
 file/get/2632968787?profile=original
ATTENDEE;ROLE=REQ-PARTICIPANT;PARTSTAT=ACCEPTED;RSVP=TRUE;CN="James A.
  Ziegler":https://www.dealerelite.net/profile/JamesAZiegler
ATTENDEE;ROLE=REQ-PARTICIPANT;PARTSTAT=TENTATIVE;RSVP=TRUE;CN="Wendi V
 enable":https://www.dealerelite.net/profile/WendiVenable
ATTENDEE;ROLE=REQ-PARTICIPANT;PARTSTAT=TENTATIVE;RSVP=TRUE;CN="Douglas
  Austin":https://www.dealerelite.net/profile/DouglasAustin
ATTENDEE;ROLE=REQ-PARTICIPANT;PARTSTAT=TENTATIVE;RSVP=TRUE;CN="Rachel 
 Swanson":https://www.dealerelite.net/profile/RachelSwanson
END:VEVENT
END:VCALENDAR
