BEGIN:VCALENDAR
PRODID:NingEventWidget-v1
VERSION:2.0
METHOD:PUBLISH
BEGIN:VTIMEZONE
TZID:America/New_York
X-LIC-LOCATION:America/New_York
BEGIN:DAYLIGHT
TZOFFSETFROM:-0500
TZOFFSETTO:-0400
TZNAME:EDT
DTSTART:19700308T020000
RRULE:FREQ=YEARLY;BYMONTH=3;BYDAY=2SU
END:DAYLIGHT
BEGIN:STANDARD
TZOFFSETFROM:-0400
TZOFFSETTO:-0500
TZNAME:EST
DTSTART:19701101T020000
RRULE:FREQ=YEARLY;BYMONTH=11;BYDAY=1SU
END:STANDARD
END:VTIMEZONE
BEGIN:VEVENT
UID:5283893:Event:313228
DTSTAMP:20260420T043835Z
SUMMARY:Best Practices in Hiring for the Automobile Industry
DESCRIPTION:The riskiest thing an organization does is bring a new emp
 loyee into their business.\nFree Webinar Thursday August 9, 2012, 9am 
 PT/ 10am MT/ 11am CT/ noon ET\nIn addition to the financial risks, whi
 ch are large, each new hire has the potential to enhance or completely
  disrupt your workplace. Good hiring practices are developed over time
  and require discipline as well as patience. Join John Pate, President
  and CEO of LS Screening, as he shares his 30+ years of experience wor
 king with organizations of all sizes to improve their hiring methodolo
 gy. This webinar is guaranteed to change the way you view your hiring 
 process.\nPresented by: John Pate, President/CEO, LS Screening\n\n
 John Pate is the President/CEO of LS Screening, a preferred KPA partne
 r. John is a 30 year veteran of business operations, Human Resources a
 nd Training. In addition to authoring an e-book on background checks, 
 John and his team have decades of business and industry experience. In
  addition to being a \"recovering end user\", he has worked directly w
 ith several Fortune 500 Clients including American Airlines, ALLTEL Co
 mmunications, and Bank One. A another fun fact: John is a licensed pri
 vate investigator in both Texas and Nevada.\n\nFor more information vi
 sit https://www.dealerelite.net/events/best-practices-in-hiring-for-th
 e-automobile-industry
DTSTART;TZID=America/New_York:20120809T090000
DTEND;TZID=America/New_York:20120809T100000
CATEGORIES:webinar
LOCATION:http://www.dealerwebinars.com
WEBSITE:http://www.dealerwebinars.com
URL:http://www.dealerwebinars.com
CONTACT:
ORGANIZER;CN="Patric Timmermans":https://www.dealerelite.net/profile/P
 atricTimmermans
ATTACH;FMTTYPE="image/jpeg":http://storage.ning.com/topology/rest/1.0/
 file/get/2632941097?profile=original
ATTENDEE;ROLE=REQ-PARTICIPANT;PARTSTAT=ACCEPTED;RSVP=TRUE;CN="Patric T
 immermans":https://www.dealerelite.net/profile/PatricTimmermans
END:VEVENT
END:VCALENDAR
