BEGIN:VCALENDAR
PRODID:NingEventWidget-v1
VERSION:2.0
METHOD:PUBLISH
BEGIN:VTIMEZONE
TZID:America/New_York
X-LIC-LOCATION:America/New_York
BEGIN:DAYLIGHT
TZOFFSETFROM:-0500
TZOFFSETTO:-0400
TZNAME:EDT
DTSTART:19700308T020000
RRULE:FREQ=YEARLY;BYMONTH=3;BYDAY=2SU
END:DAYLIGHT
BEGIN:STANDARD
TZOFFSETFROM:-0400
TZOFFSETTO:-0500
TZNAME:EST
DTSTART:19701101T020000
RRULE:FREQ=YEARLY;BYMONTH=11;BYDAY=1SU
END:STANDARD
END:VTIMEZONE
BEGIN:VEVENT
UID:5283893:Event:372554
DTSTAMP:20260422T210815Z
SUMMARY:Best way for Windscreen Replacement
DESCRIPTION:In this latest technology world repairs of windscreen repa
 ir and replacement had quite become very easy and it is been for an af
 fordable cost along with an lifetime warranty too as there is been qua
 lity technicians with latest technology been available.\n And there is
  been an quality glass been offered at an good price. Windscreen Repl
 acement is also done with cool and there is been expert technicians ad
 vice also been preferred too.\n\nFor more information visit https://ww
 w.dealerelite.net/events/best-way-for-windscreen-replacement
DTSTART;TZID=America/New_York:20130529T000000
DTEND;TZID=America/New_York:20131231T235900
CATEGORIES:automotive
LOCATION:London
WEBSITE:http://www.autoscreens.co.uk
URL:http://www.autoscreens.co.uk
CONTACT:0800 988 2080
ORGANIZER;CN="Nandini Nair":https://www.dealerelite.net/profile/Nandin
 iNair
ATTACH;FMTTYPE="image/jpeg":http://storage.ning.com/topology/rest/1.0/
 file/get/2632981822?profile=original
ATTENDEE;ROLE=REQ-PARTICIPANT;PARTSTAT=ACCEPTED;RSVP=TRUE;CN="Pat McKe
 my":https://www.dealerelite.net/profile/PatMcKemy
ATTENDEE;ROLE=REQ-PARTICIPANT;PARTSTAT=ACCEPTED;RSVP=TRUE;CN="Nandini 
 Nair":https://www.dealerelite.net/profile/NandiniNair
END:VEVENT
END:VCALENDAR
