BEGIN:VCALENDAR
PRODID:NingEventWidget-v1
VERSION:2.0
METHOD:PUBLISH
BEGIN:VTIMEZONE
TZID:America/New_York
X-LIC-LOCATION:America/New_York
BEGIN:DAYLIGHT
TZOFFSETFROM:-0500
TZOFFSETTO:-0400
TZNAME:EDT
DTSTART:19700308T020000
RRULE:FREQ=YEARLY;BYMONTH=3;BYDAY=2SU
END:DAYLIGHT
BEGIN:STANDARD
TZOFFSETFROM:-0400
TZOFFSETTO:-0500
TZNAME:EST
DTSTART:19701101T020000
RRULE:FREQ=YEARLY;BYMONTH=11;BYDAY=1SU
END:STANDARD
END:VTIMEZONE
BEGIN:VEVENT
UID:5283893:Event:51350
DTSTAMP:20260423T190539Z
SUMMARY:BTC Partners AutoVHC USA Launch OMNI Hotel San Francisco
DESCRIPTION:Nothing bleeds profits faster than missed service work and
  parts sales opportunities\n\nBTC is hosting a private launch of their
  innovative autoVHC system at NADA in San Francisco on the afternoon o
 f Saturday the 5th February at the OMNI Hotel (4-6pm). I would like to
  extend an invitation to Dealer Elite members who want to make more $ 
 from fixed operations to meet us there to see the system in action.\nĀ
  \nFor an average US Dealer the repair order increase that this system
  generates is worth an additional $833,452 per annumĀ  (based on a 14 
 technician workshop with a charge out rate of $91 per hour) these are 
 verifiable figures based on over 1 million RO's.\nĀ \nIf you have an i
 nterest just drop me back a line who will be attending, your email add
 ress and telephone number and I will mail your invitation (s) to you\n
 Ā \nOr if you want to discuss AutoVHC first then give me a call, my of
 fice number is 415 639 3766 and my cell is 262 337 1792\nĀ \nBrian\nbr
 ian@btcamerica.net\nĀ \nĀ \n\n\nFor more information visit https://www
 .dealerelite.net/events/btc-partners-autovhc-usa
DTSTART;TZID=America/New_York:20110205T160000
DTEND;TZID=America/New_York:20110205T180000
CATEGORIES:system, launch
LOCATION:San Francisco
WEBSITE:http://www.omnihotels.com/FindAHotel/SanFrancisco.asp
URL:http://www.omnihotels.com/FindAHotel/SanFrancisco.asp
CONTACT:415 639 3766 or 262 337 1792
ORGANIZER:BTC America
ATTACH;FMTTYPE="image/jpeg":http://storage.ning.com/topology/rest/1.0/
 file/get/2632914765?profile=original
ATTENDEE;ROLE=REQ-PARTICIPANT;PARTSTAT=ACCEPTED;RSVP=TRUE;CN="brian mi
 lsted":https://www.dealerelite.net/profile/brianmilsted
END:VEVENT
END:VCALENDAR
