BEGIN:VCALENDAR
PRODID:NingEventWidget-v1
VERSION:2.0
METHOD:PUBLISH
BEGIN:VTIMEZONE
TZID:America/New_York
X-LIC-LOCATION:America/New_York
BEGIN:DAYLIGHT
TZOFFSETFROM:-0500
TZOFFSETTO:-0400
TZNAME:EDT
DTSTART:19700308T020000
RRULE:FREQ=YEARLY;BYMONTH=3;BYDAY=2SU
END:DAYLIGHT
BEGIN:STANDARD
TZOFFSETFROM:-0400
TZOFFSETTO:-0500
TZNAME:EST
DTSTART:19701101T020000
RRULE:FREQ=YEARLY;BYMONTH=11;BYDAY=1SU
END:STANDARD
END:VTIMEZONE
BEGIN:VEVENT
UID:5283893:Event:320306
DTSTAMP:20260423T051015Z
SUMMARY:CCI Agent Workshop
DESCRIPTION:Tired of attending workshops that provide nuts without bol
 ts, tires without rims, crumbs rather than loaves? CCI’s workshop wo
 n’t disappoint. It’s designed specifically for agents, sub-agents 
 and any office personnel who require a better understanding of auto de
 alership products, reinsurance-dealer participation, and both sales an
 d finance processes. It’s open to any independent agent/bank represe
 ntative nationwide, regardless of vendor relationships. It’s designe
 d to provide the whole cohesive product. No bits and pieces. Nothing l
 eft to your imagination. It’s designed to put YOU on top of your gam
 e.\n\nFor more information visit https://www.dealerelite.net/events/cc
 i-agent-workshop
DTSTART;TZID=America/New_York:20121017T090000
DTEND;TZID=America/New_York:20121018T150000
CATEGORIES:"f&i", manager, agent, entrepreneurs, independent, auto, de
 aler, training, compliance, management, technology
LOCATION:Atlanta, GA
WEBSITE:
URL:
CONTACT:404-276-4206
ORGANIZER;CN="Rebecca Chernek":https://www.dealerelite.net/profile/Reb
 eccaChernek
ATTACH;FMTTYPE="image/jpeg":http://storage.ning.com/topology/rest/1.0/
 file/get/2632997571?profile=original
ATTENDEE;ROLE=REQ-PARTICIPANT;PARTSTAT=ACCEPTED;RSVP=TRUE;CN="Rebecca 
 Chernek":https://www.dealerelite.net/profile/RebeccaChernek
END:VEVENT
END:VCALENDAR
