BEGIN:VCALENDAR
PRODID:NingEventWidget-v1
VERSION:2.0
METHOD:PUBLISH
BEGIN:VTIMEZONE
TZID:America/New_York
X-LIC-LOCATION:America/New_York
BEGIN:DAYLIGHT
TZOFFSETFROM:-0500
TZOFFSETTO:-0400
TZNAME:EDT
DTSTART:19700308T020000
RRULE:FREQ=YEARLY;BYMONTH=3;BYDAY=2SU
END:DAYLIGHT
BEGIN:STANDARD
TZOFFSETFROM:-0400
TZOFFSETTO:-0500
TZNAME:EST
DTSTART:19701101T020000
RRULE:FREQ=YEARLY;BYMONTH=11;BYDAY=1SU
END:STANDARD
END:VTIMEZONE
BEGIN:VEVENT
UID:5283893:Event:371513
DTSTAMP:20260423T003510Z
SUMMARY:Complimentary Webinar: European Retailer Satisfaction with Man
 ufacturer Contracts, Standards and Incentive Schemes
DESCRIPTION:SGS invites you to register for the complimentary webinar 
 \"European Retailer Satisfaction with Manufacturer Contracts, Standard
 s and Incentive Schemes\" on May 29, 2013.\nThis complimentary webinar
  will share the results of the SGS new Survey on Automotive Dealers Sa
 tisfaction with the new Contracts, Standards and Bonus Schemes in the 
 4 main markets of Western Europe. Attendees will receive an overview b
 y manufacturer segment on dealer satisfaction with the key elements of
  the contractual relation to the vehicle manufacturers.\n\nFor more in
 formation and to register, visit our PAS 222 webinar\n\nFor more infor
 mation visit https://www.dealerelite.net/events/complimentary-webinar-
 european-retailer-satisfaction-with
DTSTART;TZID=America/New_York:20130529T000000
DTEND;TZID=America/New_York:20130529T235900
CATEGORIES:webinar
LOCATION:Online
WEBSITE:http://www.sgs.com/en/Our-Company/Events/2013/05/Complimentary
 -Webinar-European-Retailer-Satisfaction.aspx?wt.mc_id=ev130524
URL:http://www.sgs.com/en/Our-Company/Events/2013/05/Complimentary-Web
 inar-European-Retailer-Satisfaction.aspx?wt.mc_id=ev130524
CONTACT:+41 22 739 9161
ORGANIZER:SGS
ATTACH;FMTTYPE="image/jpeg":
ATTENDEE;ROLE=REQ-PARTICIPANT;PARTSTAT=ACCEPTED;RSVP=TRUE;CN="Nelirene
  Dablio":https://www.dealerelite.net/profile/NelireneDablio
END:VEVENT
END:VCALENDAR
