BEGIN:VCALENDAR
PRODID:NingEventWidget-v1
VERSION:2.0
METHOD:PUBLISH
BEGIN:VTIMEZONE
TZID:America/New_York
X-LIC-LOCATION:America/New_York
BEGIN:DAYLIGHT
TZOFFSETFROM:-0500
TZOFFSETTO:-0400
TZNAME:EDT
DTSTART:19700308T020000
RRULE:FREQ=YEARLY;BYMONTH=3;BYDAY=2SU
END:DAYLIGHT
BEGIN:STANDARD
TZOFFSETFROM:-0400
TZOFFSETTO:-0500
TZNAME:EST
DTSTART:19701101T020000
RRULE:FREQ=YEARLY;BYMONTH=11;BYDAY=1SU
END:STANDARD
END:VTIMEZONE
BEGIN:VEVENT
UID:5283893:Event:210514
DTSTAMP:20260422T044814Z
SUMMARY:Cory Mosley Live-Control Your Sales Destiny 1/2 Day Workshop
DESCRIPTION:Control Your Sales Destiny is a 1/2 event that will introd
 uce your Showroom, Internet, and BDC sales team to new techniques and 
 strategies that they can implement immediately to increase their sales
  production. \nDuring this half-day event your team will learn:\n\nNe
 w word tracks that convert, control, and close more prospects\nHow to 
 double the average gross profit on Internet deals\nPsychology techniqu
 es used by fortune 500 companies\nThe strategies that create separatio
 n and destroy the competition\nWays to leverage social media to increa
 se repeat business\nHow to drive more referrals into the showroom via 
 social networking\nNew insights into attracting, selling, and retainin
 g Gen-Y customers\nDevelop new daily habits to stay focused\nCreate a 
 game plan to produce consistent results and maximize gross profit\nThe
  secret to staying motivated regardless of your situation\n\nPlus hear
  a special presentation on \"Reputation Management\" from Laurie Foste
 r of Cars.com\n \nLimited Seating, Register Today\n \nLog on to: ww
 w.controlyoursalesdestiny.com\n\nFor more information visit https://ww
 w.dealerelite.net/events/control-your-sales-destiny-half-day-workshop
DTSTART;TZID=America/New_York:20110926T130000
DTEND;TZID=America/New_York:20110926T163000
CATEGORIES:half, day, workshop
LOCATION:Las Vegas Hilton
WEBSITE:http://www.controlyoursalesdestiny.com/
URL:http://www.controlyoursalesdestiny.com/
CONTACT:877-764-6987
ORGANIZER;CN="Cory Mosley":https://www.dealerelite.net/profile/CoryMos
 ley
ATTACH;FMTTYPE="image/jpeg":http://storage.ning.com/topology/rest/1.0/
 file/get/2632921428?profile=original
ATTENDEE;ROLE=REQ-PARTICIPANT;PARTSTAT=ACCEPTED;RSVP=TRUE;CN="Cory Mos
 ley":https://www.dealerelite.net/profile/CoryMosley
END:VEVENT
END:VCALENDAR
