BEGIN:VCALENDAR
PRODID:NingEventWidget-v1
VERSION:2.0
METHOD:PUBLISH
BEGIN:VTIMEZONE
TZID:America/New_York
X-LIC-LOCATION:America/New_York
BEGIN:DAYLIGHT
TZOFFSETFROM:-0500
TZOFFSETTO:-0400
TZNAME:EDT
DTSTART:19700308T020000
RRULE:FREQ=YEARLY;BYMONTH=3;BYDAY=2SU
END:DAYLIGHT
BEGIN:STANDARD
TZOFFSETFROM:-0400
TZOFFSETTO:-0500
TZNAME:EST
DTSTART:19701101T020000
RRULE:FREQ=YEARLY;BYMONTH=11;BYDAY=1SU
END:STANDARD
END:VTIMEZONE
BEGIN:VEVENT
UID:5283893:Event:356656
DTSTAMP:20260424T221415Z
SUMMARY:CSI Workshops in Phoenix AZ
DESCRIPTION:Hello Join Jack Lupo and Dealer Service Academy in March f
 or a CSI Workshop.With experience we will turn your Service teams into
  selling teams.This is an intense, active, roll playing workshop that 
 will turn heads and ideas they will use immediately.It will make sense
  to you and them! Why aren't you getting more HPRO? Why are your CSI s
 cores so low? What process does your team follow?Jack Lupo has been co
 aching for many years side by side on drives across the country. Let h
 im share the best practices that work. We coach and train the best dea
 lers across the country #1 Chevrolet dealer in the Country for Sales a
 nd Service Berger Chevrolet, Grand Rapids Mi 2012!Carman Ford #1 in Ph
 illy region for Penetration in Brakes, Batteries and Tires for January
  2013!visit our website to register and learn more.www.dealerserviceac
 ademy.com We are committed to our retail partners success. Check us ou
 t.Best day to youAndrea 855-372-9255\n\nFor more information visit htt
 ps://www.dealerelite.net/events/csi-workshops-in-phoenix-az
DTSTART;TZID=America/New_York:20130319T000000
DTEND;TZID=America/New_York:20130319T235900
CATEGORIES:automotive, service, manager, and, advisor, workshop
LOCATION:Phoenix, AZ and Novi Michigan
WEBSITE:http://www.dealerserviceacademy.com/store
URL:http://www.dealerserviceacademy.com/store
CONTACT:855-327-9255
ORGANIZER;CN="Andrea Lupo":https://www.dealerelite.net/profile/AndreaL
 upo
ATTACH;FMTTYPE="image/jpeg":http://storage.ning.com/topology/rest/1.0/
 file/get/2632968682?profile=original
ATTENDEE;ROLE=REQ-PARTICIPANT;PARTSTAT=ACCEPTED;RSVP=TRUE;CN="Andrea L
 upo":https://www.dealerelite.net/profile/AndreaLupo
END:VEVENT
END:VCALENDAR
