BEGIN:VCALENDAR
PRODID:NingEventWidget-v1
VERSION:2.0
METHOD:PUBLISH
BEGIN:VTIMEZONE
TZID:America/New_York
X-LIC-LOCATION:America/New_York
BEGIN:DAYLIGHT
TZOFFSETFROM:-0500
TZOFFSETTO:-0400
TZNAME:EDT
DTSTART:19700308T020000
RRULE:FREQ=YEARLY;BYMONTH=3;BYDAY=2SU
END:DAYLIGHT
BEGIN:STANDARD
TZOFFSETFROM:-0400
TZOFFSETTO:-0500
TZNAME:EST
DTSTART:19701101T020000
RRULE:FREQ=YEARLY;BYMONTH=11;BYDAY=1SU
END:STANDARD
END:VTIMEZONE
BEGIN:VEVENT
UID:5283893:Event:153501
DTSTAMP:20260421T045204Z
SUMMARY:Dealer Asset Disposal Event
DESCRIPTION:• Up to $1900.00 off the sticker price on pre-owned vehi
 cles • Guaranteed Prizes, including the possibility of winning a $10
 ,000.00 CASH prize • Bad Credit? No Credit? Lenders are standing by 
 with over $1.4 Million to lend for this event!!!\n\nFor more informati
 on visit https://www.dealerelite.net/events/dealer-asset-disposal-even
 t
DTSTART;TZID=America/New_York:20110714T180000
DTEND;TZID=America/New_York:20110718T190000
CATEGORIES:sales, event
LOCATION:Franklin Family Chevrolet Buick
WEBSITE:http://www.donfranklinauto.com/
URL:http://www.donfranklinauto.com/
CONTACT:502-348-3964
ORGANIZER;CN="Sarah Ewing":https://www.dealerelite.net/profile/SarahEw
 ing
ATTACH;FMTTYPE="image/jpeg":
ATTENDEE;ROLE=REQ-PARTICIPANT;PARTSTAT=ACCEPTED;RSVP=TRUE;CN="Sarah Ew
 ing":https://www.dealerelite.net/profile/SarahEwing
END:VEVENT
END:VCALENDAR
