BEGIN:VCALENDAR
PRODID:NingEventWidget-v1
VERSION:2.0
METHOD:PUBLISH
BEGIN:VTIMEZONE
TZID:America/New_York
X-LIC-LOCATION:America/New_York
BEGIN:DAYLIGHT
TZOFFSETFROM:-0500
TZOFFSETTO:-0400
TZNAME:EDT
DTSTART:19700308T020000
RRULE:FREQ=YEARLY;BYMONTH=3;BYDAY=2SU
END:DAYLIGHT
BEGIN:STANDARD
TZOFFSETFROM:-0400
TZOFFSETTO:-0500
TZNAME:EST
DTSTART:19701101T020000
RRULE:FREQ=YEARLY;BYMONTH=11;BYDAY=1SU
END:STANDARD
END:VTIMEZONE
BEGIN:VEVENT
UID:5283893:Event:323374
DTSTAMP:20260423T214119Z
SUMMARY:Dealer Budgets Exposed: How To Create An Effective Marketing B
 udget
DESCRIPTION:Unlock the mystery of ROI calculation for traditional and 
 digital marketing investments.\nFree Webinar Wednesday September 26, 9
 am PT / 10am MT / 11am CT / noon ET\nDealers must regularly inspect th
 eir marketing budgets and align their investments with sales and servi
 ce revenue. Brian Pasch will share his research that shows that 8 out 
 of 10 dealers have not optimized their marketing budgets to sell more 
 cars. In fact, dealers may not even know how to use their own data and
  reports to show which marketing investments are working to sell more 
 cars each month.   Brian Pasch will show dealers simple formulas that
  can be used to perfect marketing budgets and properly prioritize mark
 eting opportunities to sell more cars and increase service appointment
 s. You cannot afford to miss this webinar that will present new resear
 ch to unlock the mystery of ROI calculation for traditional and digita
 l marketing investments. Don't spend additional marketing dollars unti
 l you learn from Brian's latest insights in marketing strategy for car
  dealers.\nPresented by: Brian Pasch, CEO, PCG Digital Marketing\n
 \nBrian Pasch is an 18 year veteran of the direct marketing industry. 
 His career has spanned both management and technology roles. He is kno
 wn for his expertise in consumer data warehousing models as well as se
 arch engine optimization. Pasch foresaw the redistribution of traditio
 nal print media budgets to Internet advertising and in 2005 created th
 e PCG Digital Marketing (PCG).\n\nFor more information visit https://w
 ww.dealerelite.net/events/dealer-budgets-exposed-how-to-create-an-effe
 ctive-marketing
DTSTART;TZID=America/New_York:20120926T090000
DTEND;TZID=America/New_York:20120926T100000
CATEGORIES:webinar
LOCATION:http://www.dealerwebinars.com
WEBSITE:http://www.dealerwebinars.com
URL:http://www.dealerwebinars.com
CONTACT:
ORGANIZER;CN="Patric Timmermans":https://www.dealerelite.net/profile/P
 atricTimmermans
ATTACH;FMTTYPE="image/jpeg":http://storage.ning.com/topology/rest/1.0/
 file/get/2632972094?profile=original
ATTENDEE;ROLE=REQ-PARTICIPANT;PARTSTAT=ACCEPTED;RSVP=TRUE;CN="Patric T
 immermans":https://www.dealerelite.net/profile/PatricTimmermans
END:VEVENT
END:VCALENDAR
