BEGIN:VCALENDAR
PRODID:NingEventWidget-v1
VERSION:2.0
METHOD:PUBLISH
BEGIN:VTIMEZONE
TZID:America/New_York
X-LIC-LOCATION:America/New_York
BEGIN:DAYLIGHT
TZOFFSETFROM:-0500
TZOFFSETTO:-0400
TZNAME:EDT
DTSTART:19700308T020000
RRULE:FREQ=YEARLY;BYMONTH=3;BYDAY=2SU
END:DAYLIGHT
BEGIN:STANDARD
TZOFFSETFROM:-0400
TZOFFSETTO:-0500
TZNAME:EST
DTSTART:19701101T020000
RRULE:FREQ=YEARLY;BYMONTH=11;BYDAY=1SU
END:STANDARD
END:VTIMEZONE
BEGIN:VEVENT
UID:5283893:Event:46319
DTSTAMP:20260424T052916Z
SUMMARY:Dealer Internet Battle Plan Seminar IV
DESCRIPTION:Jim Ziegler, The Alpha Dawg brings Battle Plan IV back hom
 e to Atlanta. \nSponsored by VinSolutions... this event is going to a
 bsolutely rock. The speakers are going to drill deep with usable in-de
 pth information NOT just a series of info-mercials.  Ralph Paglia the
  dean of of Dealership Internet...Ziegler's Yoda.  Larry Bruce, the m
 icro-sites By You Guy... Sean Stapleton, Chief sales officer for Vin
 Solutions talking about technology enabled sales and marketing...AND J
 im Ziegler on the Social mediums and videos for real sales and profi
 ts. \nSign up now, we're truthfully anticipating a sell-out at 120 at
 tendees...\n\nFor more information visit https://www.dealerelite.net/e
 vents/dealer-internet-battle-plan-1
DTSTART;TZID=America/New_York:20110118T083000
DTEND;TZID=America/New_York:20110120T123000
CATEGORIES:dealership, internet, seminar
LOCATION:Doubletree Buckhead Hotel- Atlanta
WEBSITE:http://www.InternetBattlePlan.com
URL:http://www.InternetBattlePlan.com
CONTACT:800) 726-0510
ORGANIZER;CN="James A. Ziegler":https://www.dealerelite.net/profile/Ja
 mesAZiegler
ATTACH;FMTTYPE="image/jpeg":http://storage.ning.com/topology/rest/1.0/
 file/get/2632913852?profile=original
ATTENDEE;ROLE=REQ-PARTICIPANT;PARTSTAT=ACCEPTED;RSVP=TRUE;CN="James A.
  Ziegler":https://www.dealerelite.net/profile/JamesAZiegler
END:VEVENT
END:VCALENDAR
