BEGIN:VCALENDAR
PRODID:NingEventWidget-v1
VERSION:2.0
METHOD:PUBLISH
BEGIN:VTIMEZONE
TZID:America/New_York
X-LIC-LOCATION:America/New_York
BEGIN:DAYLIGHT
TZOFFSETFROM:-0500
TZOFFSETTO:-0400
TZNAME:EDT
DTSTART:19700308T020000
RRULE:FREQ=YEARLY;BYMONTH=3;BYDAY=2SU
END:DAYLIGHT
BEGIN:STANDARD
TZOFFSETFROM:-0400
TZOFFSETTO:-0500
TZNAME:EST
DTSTART:19701101T020000
RRULE:FREQ=YEARLY;BYMONTH=11;BYDAY=1SU
END:STANDARD
END:VTIMEZONE
BEGIN:VEVENT
UID:5283893:Event:352518
DTSTAMP:20260425T232914Z
SUMMARY:Dealer Synergy's Internet Sales / Phone Sales Process & Strate
 gy
DESCRIPTION:Space is LIMITED please RSVP immediately if you are intere
 sted in participating in a HIGH LEVEL Webinar that is 100% FREEÂ \n(Th
 is is 2:00pm EASTERN Time Zone)Â \nTitle:Â \nDealer Synergy's Internet
  Sales / Phone Sales Process & Strategy\nAgenda:Â \n\nOverview of Deal
 er Synergy's 10 Step Internet / Phone Sales ProcessÂ \nUnderstanding t
 he \"Road To The Appointment\"Â \nHow to PROPERLY \"Qualify\" a Prospe
 ctÂ \nMeet expectations\nAND... EXCEED Them Via the \"Value Package Pr
 oposition\"Â \nUnderstanding the TOP 5 Reasons Why People are going on
 line...Â \nExpectations Versus Objections...Â \nAnd More!Â \n\n\n\nAft
 er registering you will receive a confirmation email containing inform
 ation about joining the Webinar.\n\n\n\n\nSystem Requirements PC-based
  attendees Required: WindowsÂ® 7, Vista, XP or 2003 Server\n\n\n\nMacÂ
 ®-based attendees Required: Mac OSÂ® X 10.5 or newer\n\n\n\n\n\n\n\nMo
 bile attendees Required: iPhoneÂ®, iPadÂ®, Androidâ„¢ phone or Android
  tablet\n\n\n\n\n\n\n\n\n\nFor more information visit https://www.deal
 erelite.net/events/dealer-synergy-s-internet-sales-phone-sales-process
 -strategy
DTSTART;TZID=America/New_York:20130207T140000
DTEND;TZID=America/New_York:20130207T150000
CATEGORIES:free, webinar
LOCATION:Online
WEBSITE:https://www1.gotomeeting.com/register/147478584
URL:https://www1.gotomeeting.com/register/147478584
CONTACT:
ORGANIZER;CN="Sean V. Bradley":https://www.dealerelite.net/profile/Sea
 nVBradley
ATTACH;FMTTYPE="image/jpeg":http://storage.ning.com/topology/rest/1.0/
 file/get/2632967905?profile=original
ATTENDEE;ROLE=REQ-PARTICIPANT;PARTSTAT=ACCEPTED;RSVP=TRUE;CN="Zachary 
 Dunn @YourAutoGuyZach":https://www.dealerelite.net/profile/ZacharyDunn
ATTENDEE;ROLE=REQ-PARTICIPANT;PARTSTAT=ACCEPTED;RSVP=TRUE;CN="David T.
  Gould":https://www.dealerelite.net/profile/DavidTGould
ATTENDEE;ROLE=REQ-PARTICIPANT;PARTSTAT=ACCEPTED;RSVP=TRUE;CN="Sean V. 
 Bradley":https://www.dealerelite.net/profile/SeanVBradley
END:VEVENT
END:VCALENDAR
