BEGIN:VCALENDAR
PRODID:NingEventWidget-v1
VERSION:2.0
METHOD:PUBLISH
BEGIN:VTIMEZONE
TZID:America/New_York
X-LIC-LOCATION:America/New_York
BEGIN:DAYLIGHT
TZOFFSETFROM:-0500
TZOFFSETTO:-0400
TZNAME:EDT
DTSTART:19700308T020000
RRULE:FREQ=YEARLY;BYMONTH=3;BYDAY=2SU
END:DAYLIGHT
BEGIN:STANDARD
TZOFFSETFROM:-0400
TZOFFSETTO:-0500
TZNAME:EST
DTSTART:19701101T020000
RRULE:FREQ=YEARLY;BYMONTH=11;BYDAY=1SU
END:STANDARD
END:VTIMEZONE
BEGIN:VEVENT
UID:5283893:Event:361201
DTSTAMP:20260424T104651Z
SUMMARY:Dealership Mobile Marketing Webinar
DESCRIPTION:Did you know that 91% of all US Citizens are within arms r
 each of their mobile phone 24 hours a day, 7 days a week?\nReserve you
 r seat in our\nDealership Mobile Marketing Webinar on April 3, 2013\nC
 LICK HERE In this webinar we'll cover all of the above PLUS answer the
  questions you have about about using SMS to connect with buyers. Are 
 you aware of the potential risks caused by your salepeople putting the
 ir personal number in your Cars.com and AutoTrader ads?  This webinar 
 will give you new ideas for connecting with mobile shoppers while help
 ing you understand potential risks to avoid. CEO & Founder, Mat Koenig
 , is a 20 year Automotive Veteran and has helped Auto Dealers improve 
 sales year over year while serving at Cars.com and Edmunds.com. You wo
 n't find another company that is more committed to serving your needs.
 \nConnect with Mat Koenigon Google+, Twitter and LinkedIn.\n\nFor more
  information visit https://www.dealerelite.net/events/dealership-mobil
 e-marketing-webinar
DTSTART;TZID=America/New_York:20130403T100000
DTEND;TZID=America/New_York:20130403T110000
CATEGORIES:webinar
LOCATION:Webinar - Hosted by Anymeeting
WEBSITE:http://konig.co/mobile_marketing_webinar.html
URL:http://konig.co/mobile_marketing_webinar.html
CONTACT:1-866-877-4845
ORGANIZER;CN="Mathew Koenig":https://www.dealerelite.net/profile/konig
 co
ATTACH;FMTTYPE="image/jpeg":http://storage.ning.com/topology/rest/1.0/
 file/get/2632969841?profile=original
ATTENDEE;ROLE=REQ-PARTICIPANT;PARTSTAT=ACCEPTED;RSVP=TRUE;CN="Mathew K
 oenig":https://www.dealerelite.net/profile/konigco
END:VEVENT
END:VCALENDAR
