BEGIN:VCALENDAR
PRODID:NingEventWidget-v1
VERSION:2.0
METHOD:PUBLISH
BEGIN:VTIMEZONE
TZID:America/New_York
X-LIC-LOCATION:America/New_York
BEGIN:DAYLIGHT
TZOFFSETFROM:-0500
TZOFFSETTO:-0400
TZNAME:EDT
DTSTART:19700308T020000
RRULE:FREQ=YEARLY;BYMONTH=3;BYDAY=2SU
END:DAYLIGHT
BEGIN:STANDARD
TZOFFSETFROM:-0400
TZOFFSETTO:-0500
TZNAME:EST
DTSTART:19701101T020000
RRULE:FREQ=YEARLY;BYMONTH=11;BYDAY=1SU
END:STANDARD
END:VTIMEZONE
BEGIN:VEVENT
UID:5283893:Event:496261
DTSTAMP:20260423T085029Z
SUMMARY:Deliver The Best Car Buying Experience Ever!
DESCRIPTION:FROM 100% OFFLINE TO 100% ONLINE (AND EVERYTHING IN BETWEE
 N): HOW TO CREATE THE BEST CAR BUYING EXPERIENCE EVER!\n\nThe Best Flo
 or Sales Experience!\nStudies show 61% of buyers make zero contact wit
 h you before arriving on your lot. Learn how top dealers are using pro
 cess and technology to make this the best car buying experience ever!\
 n\n\n\nThe Best Online Buying Experience!\nClunky shopping carts and n
 on-working \"Buy It Now\" buttons are not the answer to successfully s
 elling cars online. Learn what works and what doesn't; and create an e
 xceptional online buying experience for your customers!\n\n\n\nThe Bes
 t Hybrid Experience!\nMore and more, today's connected customers want 
 to buy their way, not yours. Help them do this in a way that maximizes
  their satisfaction and your profits!\n\n\n\n\n\nFor more information 
 visit https://www.dealerelite.net/events/deliver-the-best-car-buying-e
 xperience-ever
DTSTART;TZID=America/New_York:20170407T130000
DTEND;TZID=America/New_York:20170407T143000
CATEGORIES:live, video, webcast
LOCATION:Online - 1 PM Eastern / 10 AM Pacific
WEBSITE:https://app.webinarjam.net/register/27638/5785e0e18f
URL:https://app.webinarjam.net/register/27638/5785e0e18f
CONTACT:
ORGANIZER;CN="Steve Stauning":https://www.dealerelite.net/profile/Stev
 eStauning753
ATTACH;FMTTYPE="image/jpeg":http://storage.ning.com/topology/rest/1.0/
 file/get/2633030755?profile=original
ATTENDEE;ROLE=REQ-PARTICIPANT;PARTSTAT=ACCEPTED;RSVP=TRUE;CN="Steve St
 auning":https://www.dealerelite.net/profile/SteveStauning753
END:VEVENT
END:VCALENDAR
