BEGIN:VCALENDAR
PRODID:NingEventWidget-v1
VERSION:2.0
METHOD:PUBLISH
BEGIN:VTIMEZONE
TZID:America/New_York
X-LIC-LOCATION:America/New_York
BEGIN:DAYLIGHT
TZOFFSETFROM:-0500
TZOFFSETTO:-0400
TZNAME:EDT
DTSTART:19700308T020000
RRULE:FREQ=YEARLY;BYMONTH=3;BYDAY=2SU
END:DAYLIGHT
BEGIN:STANDARD
TZOFFSETFROM:-0400
TZOFFSETTO:-0500
TZNAME:EST
DTSTART:19701101T020000
RRULE:FREQ=YEARLY;BYMONTH=11;BYDAY=1SU
END:STANDARD
END:VTIMEZONE
BEGIN:VEVENT
UID:5283893:Event:226326
DTSTAMP:20260420T013948Z
SUMMARY:Digital Dealer VIP Dinner Reception
DESCRIPTION:By Invitation Only\n \nWednesday, October 5, 2011\n7:15 p
 m - Midnight\nSt. Croix Room, Mirage Hotel\n \nVIP Dinner Reception\n
 Hors d'oeuvres, Buffet, Desserts, Open Bar, Wine Tasting, Live Enterta
 inment\nDealers and dealership personnel are exclusively invited to at
 tend the VIP Dinner Reception on Wednesday evening following the Digit
 al Dealer Reception.\n \n \nVIP Dealer Lounge\nWiFi, Coffee, Water, 
 Snacks, Comfortable Chairs\nDealers are Invited to visit the lounge an
 d enjoy free wifi Internet, Starbucks Coffee, Gourmet Desserts and Ful
 l Bar in a relaxed setting. \nMain Exhibit Halls\n \nReception Spons
 ors:\nTeam Velocity\nTier10 Marketing\nCallRevu\nCar-Mercial\nDealerAp
 p Vantage \nIntellaCar\nOfferLogix\nBusinessRater\nBulldog Marketing 
 Technologies\n\nFor more information visit https://www.dealerelite.net
 /events/digital-dealer-vip-dinner-reception
DTSTART;TZID=America/New_York:20111005T191500
DTEND;TZID=America/New_York:20111006T000000
CATEGORIES:vip, dinner, reception
LOCATION:St. Croix Room, Mirage Hotel
WEBSITE:
URL:
CONTACT:
ORGANIZER:Reception Sponsors
ATTACH;FMTTYPE="image/jpeg":http://storage.ning.com/topology/rest/1.0/
 file/get/2632921177?profile=original
ATTENDEE;ROLE=REQ-PARTICIPANT;PARTSTAT=ACCEPTED;RSVP=TRUE;CN="Luisana 
 Suegart":https://www.dealerelite.net/profile/LuisanaSuegart
END:VEVENT
END:VCALENDAR
