BEGIN:VCALENDAR
PRODID:NingEventWidget-v1
VERSION:2.0
METHOD:PUBLISH
BEGIN:VTIMEZONE
TZID:America/New_York
X-LIC-LOCATION:America/New_York
BEGIN:DAYLIGHT
TZOFFSETFROM:-0500
TZOFFSETTO:-0400
TZNAME:EDT
DTSTART:19700308T020000
RRULE:FREQ=YEARLY;BYMONTH=3;BYDAY=2SU
END:DAYLIGHT
BEGIN:STANDARD
TZOFFSETFROM:-0400
TZOFFSETTO:-0500
TZNAME:EST
DTSTART:19701101T020000
RRULE:FREQ=YEARLY;BYMONTH=11;BYDAY=1SU
END:STANDARD
END:VTIMEZONE
BEGIN:VEVENT
UID:5283893:Event:48249
DTSTAMP:20260423T235930Z
SUMMARY:Digital Marketing Strategies Conference in Napa
DESCRIPTION:The 2011 Digital Marketing Strategies Conference in Napa f
 eatures industry leaders and top educators to assist dealers with crea
 ting and\nimplementing a strong digital marketing program for this upc
 oming year.\n \nThe event is scheduled just prior to NADA so come out
  a few days early and participate in the powerful education format.\n\
 nFor more information visit https://www.dealerelite.net/events/digital
 -marketing-strategies
DTSTART;TZID=America/New_York:20110201T150000
DTEND;TZID=America/New_York:20110204T090000
CATEGORIES:automotive, conference
LOCATION:Napa Valley Marriot
WEBSITE:http://www.digitalmarketingstrategies.org
URL:http://www.digitalmarketingstrategies.org
CONTACT:732.450.8200
ORGANIZER:PCG Digital Marketing
ATTACH;FMTTYPE="image/jpeg":http://storage.ning.com/topology/rest/1.0/
 file/get/2632914737?profile=original
ATTENDEE;ROLE=REQ-PARTICIPANT;PARTSTAT=ACCEPTED;RSVP=TRUE;CN="Brian Pa
 sch":https://www.dealerelite.net/profile/BrianPasch
END:VEVENT
END:VCALENDAR
