BEGIN:VCALENDAR
PRODID:NingEventWidget-v1
VERSION:2.0
METHOD:PUBLISH
BEGIN:VTIMEZONE
TZID:America/New_York
X-LIC-LOCATION:America/New_York
BEGIN:DAYLIGHT
TZOFFSETFROM:-0500
TZOFFSETTO:-0400
TZNAME:EDT
DTSTART:19700308T020000
RRULE:FREQ=YEARLY;BYMONTH=3;BYDAY=2SU
END:DAYLIGHT
BEGIN:STANDARD
TZOFFSETFROM:-0400
TZOFFSETTO:-0500
TZNAME:EST
DTSTART:19701101T020000
RRULE:FREQ=YEARLY;BYMONTH=11;BYDAY=1SU
END:STANDARD
END:VTIMEZONE
BEGIN:VEVENT
UID:5283893:Event:227694
DTSTAMP:20260419T103949Z
SUMMARY:Effectively Attract Customers Utilizing Email Marketing
DESCRIPTION:http://www.autoedcenter.com/education/seminars/11-11-22-em
 ail.php\n \nhttp://www.autoedcenter.com/education/seminars/pdf/11-11-
 22-email.pdf\n \nhttp://www.facebook.com/dealeretraining\n \nhttp://
 dealeretraining.com/\n \nGreater New York automotive dealerships are 
 invited to send their staff to learn how to effectively utilize email 
 for marketing and follow up processes. Attendees with learn how to inc
 orporate online reputation management, social media, and value buildin
 g with regards to sending emails.\n \nStan Sher, president of Dealer 
 eTraining will be conducting this hands on workshop teaching techniq
 ues that have made him a successful eCommerce director and one of the 
 top automotive internet sales experts in the country.  Learn more abo
 ut Stan Sher by visiting http://www.linkedin.com/in/stansher83 and 
 http://stansher.com/\n\n\nFor more information visit https://www.deale
 relite.net/events/effectively-attract-customers-utilizing-email-market
 ing
DTSTART;TZID=America/New_York:20111122T100000
DTEND;TZID=America/New_York:20111122T130000
CATEGORIES:training, session
LOCATION:Center for Automotive Training and Education
WEBSITE:http://www.autoedcenter.com/education/seminars/11-11-22-email.
 php
URL:http://www.autoedcenter.com/education/seminars/11-11-22-email.php
CONTACT:718-640-2000
ORGANIZER:Greater New York Dealers Association
ATTACH;FMTTYPE="image/jpeg":
ATTENDEE;ROLE=REQ-PARTICIPANT;PARTSTAT=ACCEPTED;RSVP=TRUE;CN="Stan She
 r":https://www.dealerelite.net/profile/StanSher83
END:VEVENT
END:VCALENDAR
