BEGIN:VCALENDAR
PRODID:NingEventWidget-v1
VERSION:2.0
METHOD:PUBLISH
BEGIN:VTIMEZONE
TZID:America/New_York
X-LIC-LOCATION:America/New_York
BEGIN:DAYLIGHT
TZOFFSETFROM:-0500
TZOFFSETTO:-0400
TZNAME:EDT
DTSTART:19700308T020000
RRULE:FREQ=YEARLY;BYMONTH=3;BYDAY=2SU
END:DAYLIGHT
BEGIN:STANDARD
TZOFFSETFROM:-0400
TZOFFSETTO:-0500
TZNAME:EST
DTSTART:19701101T020000
RRULE:FREQ=YEARLY;BYMONTH=11;BYDAY=1SU
END:STANDARD
END:VTIMEZONE
BEGIN:VEVENT
UID:5283893:Event:150306
DTSTAMP:20260421T081152Z
SUMMARY:Employee vs. Independent Contractor: How to Tell the Differenc
 e
DESCRIPTION:Make sure you are following the law when evaluating Employ
 ees vs. Independent Contractors. Presented by John Boggs, partner with
  Fine, Boggs, and Perkins, LLP.\n \nUsing independent contractors can
  provide flexibility, project or task specific expertise, and signific
 ant cost savings for your business; if they really are independent con
 tractors. In this webinar learn how to determine employee vs. independ
 ent contractor, appropriate documentation and best practices for manag
 ing independent contractors for optimal productivity without moving th
 em to the official employee classification.  \n\nFor more information
  visit https://www.dealerelite.net/events/employee-vs-independent
DTSTART;TZID=America/New_York:20110721T094500
DTEND;TZID=America/New_York:20110721T110000
CATEGORIES:hr, webinar
LOCATION:Online Webinar
WEBSITE:http://go.kpaonline.com/LP=55?elqCampaignId=56&ch=kpa
URL:http://go.kpaonline.com/LP=55?elqCampaignId=56&ch=kpa
CONTACT:
ORGANIZER;CN="Brian Torrez":https://www.dealerelite.net/profile/BrianT
 orrez
ATTACH;FMTTYPE="image/jpeg":http://storage.ning.com/topology/rest/1.0/
 file/get/2632919170?profile=original
ATTENDEE;ROLE=REQ-PARTICIPANT;PARTSTAT=ACCEPTED;RSVP=TRUE;CN="Janell Y
 utrzenka":https://www.dealerelite.net/profile/JanellYutrzenka
ATTENDEE;ROLE=REQ-PARTICIPANT;PARTSTAT=ACCEPTED;RSVP=TRUE;CN="Patric T
 immermans":https://www.dealerelite.net/profile/PatricTimmermans
ATTENDEE;ROLE=REQ-PARTICIPANT;PARTSTAT=ACCEPTED;RSVP=TRUE;CN="Brian To
 rrez":https://www.dealerelite.net/profile/BrianTorrez
END:VEVENT
END:VCALENDAR
