BEGIN:VCALENDAR
PRODID:NingEventWidget-v1
VERSION:2.0
METHOD:PUBLISH
BEGIN:VTIMEZONE
TZID:America/New_York
X-LIC-LOCATION:America/New_York
BEGIN:DAYLIGHT
TZOFFSETFROM:-0500
TZOFFSETTO:-0400
TZNAME:EDT
DTSTART:19700308T020000
RRULE:FREQ=YEARLY;BYMONTH=3;BYDAY=2SU
END:DAYLIGHT
BEGIN:STANDARD
TZOFFSETFROM:-0400
TZOFFSETTO:-0500
TZNAME:EST
DTSTART:19701101T020000
RRULE:FREQ=YEARLY;BYMONTH=11;BYDAY=1SU
END:STANDARD
END:VTIMEZONE
BEGIN:VEVENT
UID:5283893:Event:364074
DTSTAMP:20260424T073417Z
SUMMARY:Engaging Content: The Missing Ingredient in 99% of Car Dealer 
 Websites
DESCRIPTION:2013 is the year of content marketing.\nSearch and social 
 are converging around content and it’s the easiest way for car deale
 rs to move the needle on traffic, leads, and sales. Unfortunately, the
  vast majority of dealerships are missing out on this. To the savvy de
 alers out there, this is the opportunity to make your website stand ou
 t. Complimentary webinar Wednesday April 10, 2013, 10:00am Mountain T
 ime\nRegister at http://www.dealerwebinars.com/99website?ch=social\nJ
 D Rucker will demonstrate the importance of engaging content and show 
 how dealers can take advantage of this growing trend in marketing that
  simply hasn’t found its way to the automotive industry… yet.\nPre
 sented by: JD Rucker, Director of New Media, KPA.\n\nJD is respons
 ible for overseeing the direction of digital marketing for the TK Cars
 ites product line for automotive dealerships as well as for non-auto d
 ealer clients under the Hasai brand. He has personally optimized over 
 150 individual websites and coordinated the optimization of 1000 websi
 tes. JD is recognized in the industry as the foremost authority on aut
 omotive SEO and is a renowned social media expert.\n\nFor more informa
 tion visit https://www.dealerelite.net/events/engaging-content-the-mis
 sing-ingredient-in-99-of-car-dealer
DTSTART;TZID=America/New_York:20130410T090000
DTEND;TZID=America/New_York:20130410T100000
CATEGORIES:webinar
LOCATION:http://www.dealerwebinars.com/99website?ch=social
WEBSITE:http://www.dealerwebinars.com/99website?ch=social
URL:http://www.dealerwebinars.com/99website?ch=social
CONTACT:
ORGANIZER;CN="Patric Timmermans":https://www.dealerelite.net/profile/P
 atricTimmermans
ATTACH;FMTTYPE="image/jpeg":http://storage.ning.com/topology/rest/1.0/
 file/get/2632941097?profile=original
ATTENDEE;ROLE=REQ-PARTICIPANT;PARTSTAT=ACCEPTED;RSVP=TRUE;CN="Patric T
 immermans":https://www.dealerelite.net/profile/PatricTimmermans
END:VEVENT
END:VCALENDAR
