BEGIN:VCALENDAR
PRODID:NingEventWidget-v1
VERSION:2.0
METHOD:PUBLISH
BEGIN:VTIMEZONE
TZID:America/New_York
X-LIC-LOCATION:America/New_York
BEGIN:DAYLIGHT
TZOFFSETFROM:-0500
TZOFFSETTO:-0400
TZNAME:EDT
DTSTART:19700308T020000
RRULE:FREQ=YEARLY;BYMONTH=3;BYDAY=2SU
END:DAYLIGHT
BEGIN:STANDARD
TZOFFSETFROM:-0400
TZOFFSETTO:-0500
TZNAME:EST
DTSTART:19701101T020000
RRULE:FREQ=YEARLY;BYMONTH=11;BYDAY=1SU
END:STANDARD
END:VTIMEZONE
BEGIN:VEVENT
UID:5283893:Event:65863
DTSTAMP:20260423T020905Z
SUMMARY:Enhancing Your Facebook Business Page
DESCRIPTION:So you have a Facebook page for your dealership, but there
 ’s nothing there to make people want to like it. You can do a lot mo
 re than just changing up your profile image and posting status updates
 . Join Dan in this FREE webinar workshop on March 17 at 10:57 AM and l
 earn to customize your page with tabs, specials, and more to keep your
  fans coming back and ultimately drive them to your dealership.Sign up
  now for this FREE online workshop! This takes places Thursday, March 
 17, at 10:57 AM EST and will last about half an hour.\n\nFor more info
 rmation visit https://www.dealerelite.net/events/enhancing-your-facebo
 ok
DTSTART;TZID=America/New_York:20110317T110000
DTEND;TZID=America/New_York:20110317T113000
CATEGORIES:online, workshop
LOCATION:Online
WEBSITE:http://exclusivelyautomotive.com/enhancing-your-facebook-busin
 ess-page/
URL:http://exclusivelyautomotive.com/enhancing-your-facebook-business-
 page/
CONTACT:518-631-5505
ORGANIZER;CN="Paul Potratz":https://www.dealerelite.net/profile/PaulPo
 tratz
ATTACH;FMTTYPE="image/jpeg":
ATTENDEE;ROLE=REQ-PARTICIPANT;PARTSTAT=ACCEPTED;RSVP=TRUE;CN="Paul Pot
 ratz":https://www.dealerelite.net/profile/PaulPotratz
END:VEVENT
END:VCALENDAR
