BEGIN:VCALENDAR
PRODID:NingEventWidget-v1
VERSION:2.0
METHOD:PUBLISH
BEGIN:VTIMEZONE
TZID:America/New_York
X-LIC-LOCATION:America/New_York
BEGIN:DAYLIGHT
TZOFFSETFROM:-0500
TZOFFSETTO:-0400
TZNAME:EDT
DTSTART:19700308T020000
RRULE:FREQ=YEARLY;BYMONTH=3;BYDAY=2SU
END:DAYLIGHT
BEGIN:STANDARD
TZOFFSETFROM:-0400
TZOFFSETTO:-0500
TZNAME:EST
DTSTART:19701101T020000
RRULE:FREQ=YEARLY;BYMONTH=11;BYDAY=1SU
END:STANDARD
END:VTIMEZONE
BEGIN:VEVENT
UID:5283893:Event:226582
DTSTAMP:20260422T045853Z
SUMMARY:Essentials of Wage and Hour Law for Dealerships
DESCRIPTION:Are you in compliance? Can you afford not to be? Presented
  by Jim Hendricks, Partner with Ford & Harrison Law Firm.\nThe U.S. De
 partment of Labor estimates that greater than 50% of employers are not
  in compliance with the Fair Labor Standards Act. The U.S. Department 
 of Labor has added new investigators and is focusing on employers who 
 are not in compliance. The costs for non-compliance in multi-year back
  pay, interest, and lawsuits can be enormous. In this webinar you will
  learn about the most common wage and hour traps for dealerships and h
 ow to troubleshoot problems with: \n\nEmployee classification\nWage Ca
 lculations\nAccurate Recordkeeping\n\nIn addition you will learn about
  FLSA investigations and enforcement \n\n\nFor more information visit
  https://www.dealerelite.net/events/essentials-of-wage-and-hour-law-fo
 r-dealerships
DTSTART;TZID=America/New_York:20110929T094500
DTEND;TZID=America/New_York:20110929T110000
CATEGORIES:hr, webinar
LOCATION:Online Webinar
WEBSITE:http://go.kpaonline.com/LP=71?elqCampaignId=101&ch=KPA
URL:http://go.kpaonline.com/LP=71?elqCampaignId=101&ch=KPA
CONTACT:866-356-1735
ORGANIZER;CN="Brian Torrez":https://www.dealerelite.net/profile/BrianT
 orrez
ATTACH;FMTTYPE="image/jpeg":http://storage.ning.com/topology/rest/1.0/
 file/get/2632919647?profile=original
ATTENDEE;ROLE=REQ-PARTICIPANT;PARTSTAT=ACCEPTED;RSVP=TRUE;CN="Patric T
 immermans":https://www.dealerelite.net/profile/PatricTimmermans
ATTENDEE;ROLE=REQ-PARTICIPANT;PARTSTAT=ACCEPTED;RSVP=TRUE;CN="Brian To
 rrez":https://www.dealerelite.net/profile/BrianTorrez
END:VEVENT
END:VCALENDAR
