BEGIN:VCALENDAR
PRODID:NingEventWidget-v1
VERSION:2.0
METHOD:PUBLISH
BEGIN:VTIMEZONE
TZID:America/New_York
X-LIC-LOCATION:America/New_York
BEGIN:DAYLIGHT
TZOFFSETFROM:-0500
TZOFFSETTO:-0400
TZNAME:EDT
DTSTART:19700308T020000
RRULE:FREQ=YEARLY;BYMONTH=3;BYDAY=2SU
END:DAYLIGHT
BEGIN:STANDARD
TZOFFSETFROM:-0400
TZOFFSETTO:-0500
TZNAME:EST
DTSTART:19701101T020000
RRULE:FREQ=YEARLY;BYMONTH=11;BYDAY=1SU
END:STANDARD
END:VTIMEZONE
BEGIN:VEVENT
UID:5283893:Event:360991
DTSTAMP:20260422T130421Z
SUMMARY:F&I Week presented by Automotive News
DESCRIPTION:Don't miss the year's leading F&I event!\nLast year over 1
 ,000 dealership principals, owners, F&I managers, F&I staff, complianc
 e officers, internet managers and more attended the ONLY digital event
  focused on improving profitability and success of the F&I department.
 \n2013 marks the third year of Automotive News F&I Week. Access to t
 he conference will once again be free. All you need to do is register.
 \nEach day will afford attendees the opportunity to hear from industry
  leading experts, as well as peers right from their computer. You will
  be able to ask questions, network with other attendees and download v
 aluable F&I related materials. If you can't make it, register anyway, 
 all sessions will be recorded and archived to view at your convenience
 . All are invited to attend, but space is limited so sign up today!\n
 \nSee the full agenda.\n\n\nFor more information visit https://www.dea
 lerelite.net/events/f-i-week-presented-by-automotive-news
DTSTART;TZID=America/New_York:20130611T130000
DTEND;TZID=America/New_York:20130613T160000
CATEGORIES:online, conference
LOCATION:Online
WEBSITE:http://www.fandiweek.com
URL:http://www.fandiweek.com
CONTACT:
ORGANIZER;CN="Sarah Gorajek":https://www.dealerelite.net/profile/Sarah
 Gorajek
ATTACH;FMTTYPE="image/jpeg":http://storage.ning.com/topology/rest/1.0/
 file/get/2632969380?profile=original
ATTENDEE;ROLE=REQ-PARTICIPANT;PARTSTAT=ACCEPTED;RSVP=TRUE;CN="Sarah Go
 rajek":https://www.dealerelite.net/profile/SarahGorajek
END:VEVENT
END:VCALENDAR
