BEGIN:VCALENDAR
PRODID:NingEventWidget-v1
VERSION:2.0
METHOD:PUBLISH
BEGIN:VTIMEZONE
TZID:America/New_York
X-LIC-LOCATION:America/New_York
BEGIN:DAYLIGHT
TZOFFSETFROM:-0500
TZOFFSETTO:-0400
TZNAME:EDT
DTSTART:19700308T020000
RRULE:FREQ=YEARLY;BYMONTH=3;BYDAY=2SU
END:DAYLIGHT
BEGIN:STANDARD
TZOFFSETFROM:-0400
TZOFFSETTO:-0500
TZNAME:EST
DTSTART:19701101T020000
RRULE:FREQ=YEARLY;BYMONTH=11;BYDAY=1SU
END:STANDARD
END:VTIMEZONE
BEGIN:VEVENT
UID:5283893:Event:323843
DTSTAMP:20260423T133323Z
SUMMARY:Facebook and Twitter and LinkedIn, Oh My: The Employment Law I
 mplications of Social Networking
DESCRIPTION:What employers should and shouldn't do to monitor and cont
 rol their employees' work-related social media use, and what employers
  should and shouldn't do to effectively use social media in connection
  with their own labor and employment practices.\nFree webinar Thursday
  October 4, 9am PT / 10am MT / 11am CT / noon ET\nPresented by: Andre
 w Tanick, Managing Partner, Ford and Harrison, LLP, and Aisha San
 chez, Associate,Ford and Harrison, LLP\n\nAndy Tanick is the Administ
 rative (Managing) Partner of Ford & Harrison's Minneapolis, Minnesota 
 office. He has over 25 years of experience defending employment claims
  and helping businesses of all sizes develop effective policies and av
 oid litigation. Andy is a Labor and Employment Law Specialist, certifi
 ed by the Minnesota State Bar Association.\n \n\nAisha Sanchez is an 
 associate in Ford & Harrison's Tampa, Florida office. She concentrates
  her practice on representing management in employment matters includi
 ng alleged discrimination, harassment, and retaliation claims under Ti
 tle VII, ADA, ADEA and state law discrimination, and she is a frequent
  lecturer on these and other labor and employment related topics.\n\nF
 or more information visit https://www.dealerelite.net/events/facebook-
 and-twitter-and-linkedin-oh-my-the-employment-law-1
DTSTART;TZID=America/New_York:20121004T090000
DTEND;TZID=America/New_York:20121004T100000
CATEGORIES:webinar
LOCATION:http://www.dealerwebinars.com
WEBSITE:http://www.dealerwebinars.com
URL:http://www.dealerwebinars.com
CONTACT:
ORGANIZER;CN="Patric Timmermans":https://www.dealerelite.net/profile/P
 atricTimmermans
ATTACH;FMTTYPE="image/jpeg":
ATTENDEE;ROLE=REQ-PARTICIPANT;PARTSTAT=ACCEPTED;RSVP=TRUE;CN="Patric T
 immermans":https://www.dealerelite.net/profile/PatricTimmermans
END:VEVENT
END:VCALENDAR
